BEGIN:VCALENDAR
VERSION:2.0
PRODID:-//The Lime Street Guide - ECPv5.2.1//NONSGML v1.0//EN
CALSCALE:GREGORIAN
METHOD:PUBLISH
X-WR-CALNAME:The Lime Street Guide
X-ORIGINAL-URL:https://www.limestreetguide.com
X-WR-CALDESC:Events for The Lime Street Guide
BEGIN:VTIMEZONE
TZID:Europe/London
BEGIN:DAYLIGHT
TZOFFSETFROM:+0000
TZOFFSETTO:+0100
TZNAME:BST
DTSTART:20250330T010000
END:DAYLIGHT
BEGIN:STANDARD
TZOFFSETFROM:+0100
TZOFFSETTO:+0000
TZNAME:GMT
DTSTART:20251026T010000
END:STANDARD
END:VTIMEZONE
BEGIN:VEVENT
DTSTART;VALUE=DATE:20250914
DTEND;VALUE=DATE:20250918
DTSTAMP:20260425T180027
CREATED:20241118T120910Z
LAST-MODIFIED:20250812T144950Z
UID:83980-1757808000-1758153599@www.limestreetguide.com
SUMMARY:WSIA Annual Marketplace 2025
DESCRIPTION:WSIA Annual Marketplace 2025\nAnnual Marketplace is the premier wholesale\, specialty and surplus lines industry event. More than 8\,000 industry professionals gather at Annual Marketplace for networking and business meetings throughout the week in the Brokers’ Lounge\, Hospitality Zone and The Club. WSIA meeting spaces will be co-headquartered at the Manchester Grand Hyatt and Marriott Marquis San Diego Marina\, and you should schedule meetings accordingly to allow time to move between the two properties. \nRegistration will open on May 21\, 2025 at 10:00 a.m. CT. \n		\n\n							\n					Share this event with your colleagues:\n				 \n			\n			\n\n								\n		\n\n							\n\n					\n						\n						 \n					\n						\n							\n\n							\n																Facebook\n									\n						\n\n											\n					\n									\n							\n\n					\n						\n						 \n					\n						\n							\n\n							\n																Twitter\n									\n						\n\n											\n					\n									\n							\n\n					\n						\n						 \n					\n						\n							\n\n							\n																LinkedIn\n									\n						\n\n											\n					\n									\n							\n\n					\n						\n						 \n					\n						\n							\n\n							\n																Email\n									\n						\n\n											\n					\n									\n			\n					\n		\n			\n		\n		Visit Event Website
URL:https://www.limestreetguide.com/event/wsia-annual-marketplace-2025/
LOCATION:Manchester Grand Hyatt and Marriott Marquis San Diego Marina\, 1 Market Pl\, San Diego\, CA 92101\, United States
CATEGORIES:Conferences
ATTACH;FMTTYPE=image/png:https://www.limestreetguide.com/wp-content/uploads/2024/11/WSIA.jpeg.png
GEO:32.710052;-117.168372
X-APPLE-STRUCTURED-LOCATION;VALUE=URI;X-ADDRESS=Manchester Grand Hyatt and Marriott Marquis San Diego Marina 1 Market Pl San Diego CA 92101 United States;X-APPLE-RADIUS=500;X-TITLE=1 Market Pl:geo:-117.168372,32.710052
END:VEVENT
END:VCALENDAR