BEGIN:VCALENDAR
VERSION:2.0
PRODID:-//The Lime Street Guide - ECPv5.2.1//NONSGML v1.0//EN
CALSCALE:GREGORIAN
METHOD:PUBLISH
X-WR-CALNAME:The Lime Street Guide
X-ORIGINAL-URL:https://www.limestreetguide.com
X-WR-CALDESC:Events for The Lime Street Guide
BEGIN:VTIMEZONE
TZID:Europe/London
BEGIN:DAYLIGHT
TZOFFSETFROM:+0000
TZOFFSETTO:+0100
TZNAME:BST
DTSTART:20200329T010000
END:DAYLIGHT
BEGIN:STANDARD
TZOFFSETFROM:+0100
TZOFFSETTO:+0000
TZNAME:GMT
DTSTART:20201025T010000
END:STANDARD
END:VTIMEZONE
BEGIN:VEVENT
DTSTART;TZID=Europe/London:20200526T160000
DTEND;TZID=Europe/London:20200526T170000
DTSTAMP:20260424T221705
CREATED:20200509T182858Z
LAST-MODIFIED:20210215T205648Z
UID:56226-1590508800-1590512400@www.limestreetguide.com
SUMMARY:Webinar: Meet The Ever-Growing Demand For Resilient Cyber Protection
DESCRIPTION:The annual estimated annual cost to the global economy from cybercrime is $445bn and the cyber insurance market could be worth $20bn by 2025 (Allianz). But when it comes to cyber insurance\, the fundamental obstacle is clear. Insurers lack the critical mass of data needed to make optimum decisions. In this webinar you’ll find out how to improve access to data and augment the data you already have in your cyber insurance portfolio to sharpen your competitive edge. \nIn this 1-hour webinar organised by the Intelligent Insurer you’ll: \n– Tackle the complexity and evolving nature of cyber risk with a sophisticated product strategy that supports confident underwriting\n– Overcome a lack of historical data with real-time insights from public\, open-source\, proprietary and third-party data to augment and validate underwriting cyber risk\n– Leverage AI-powered predictive risk scenario models to better understand the cyber risk associated with a company or portfolio and empower the underwriter of the future with real time insights\n– Get to grips with cyber risk modelling: Curate data sets using meaningful sources of data and layer analytics on top to enable underwriters to get access to the additional data they need to succeed \nYou’ll hear from these world-leading cyber experts: \n– Kara Owens\, Managing Director\, Global Cyber Underwriting Executive\, Markel\n– Dr. Jürgen Reinhart\, Chief Underwriting Officer\, Cyber\, Munich Re\n– Neil Arklie\, Head of Cyber\, Aviva\n– Miles Weis\, AVP – Executive Risk and Cyber Practice Leader\, Holmes Murphy\n– Jack Kudale\, Founder and CEO\, Cowbell Cyber (Moderator) \nThis webinar will be sponsored by a Cowbell Cyber. By signing up to this webinar you agree to share your data with this one organization. \n		\n\n							\n					Share this event with your colleagues:\n				 \n			\n			\n\n								\n		\n\n							\n\n					\n						\n						 \n					\n						\n							\n\n							\n																Facebook\n									\n						\n\n											\n					\n									\n							\n\n					\n						\n						 \n					\n						\n							\n\n							\n																Twitter\n									\n						\n\n											\n					\n									\n							\n\n					\n						\n						 \n					\n						\n							\n\n							\n																LinkedIn\n									\n						\n\n											\n					\n									\n							\n\n					\n						\n						 \n					\n						\n							\n\n							\n																Email\n									\n						\n\n											\n					\n									\n			\n					\n		\n			\n		\n		Visit Event Website
URL:https://www.limestreetguide.com/event/webinar-meet-the-ever-growing-demand-for-resilient-cyber-protection/
LOCATION:Online
CATEGORIES:Online
ATTACH;FMTTYPE=image/png:https://www.limestreetguide.com/wp-content/uploads/2019/01/Intelligent-Insurer-new-logo.png
ORGANIZER;CN="Intelligent%20Insurer":MAILTO:datwell@newtonmedia.co.uk
GEO:51.533166;-0.130418
END:VEVENT
END:VCALENDAR