BEGIN:VCALENDAR
VERSION:2.0
PRODID:-//The Lime Street Guide - ECPv5.2.1//NONSGML v1.0//EN
CALSCALE:GREGORIAN
METHOD:PUBLISH
X-WR-CALNAME:The Lime Street Guide
X-ORIGINAL-URL:https://www.limestreetguide.com
X-WR-CALDESC:Events for The Lime Street Guide
BEGIN:VTIMEZONE
TZID:Europe/London
BEGIN:DAYLIGHT
TZOFFSETFROM:+0000
TZOFFSETTO:+0100
TZNAME:BST
DTSTART:20220327T010000
END:DAYLIGHT
BEGIN:STANDARD
TZOFFSETFROM:+0100
TZOFFSETTO:+0000
TZNAME:GMT
DTSTART:20221030T010000
END:STANDARD
END:VTIMEZONE
BEGIN:VEVENT
DTSTART;TZID=Europe/London:20220323T130000
DTEND;TZID=Europe/London:20220323T140000
DTSTAMP:20260424T215041
CREATED:20220318T190218Z
LAST-MODIFIED:20220318T190218Z
UID:76633-1648040400-1648044000@www.limestreetguide.com
SUMMARY:Webinar: Harness External Data To Transform The Profitability Of Your Property Book
DESCRIPTION:Description\nHow can property teams improve underwriting performance? Which external data sources will fuel modelling techniques that better mitigate new and evolving exposures? And which data and analytics capabilities are becoming table stakes? \nSpeakers\n\nVolker Münch\, Chief Underwriting Officer Property International\, AIG\nMartin James\, Senior Account Director\, Precisely\nSander van Voorden\, Global Head of Property and Engineering\, Generali Global Corporate and Commercial\nBeat Kramer\, Head Property Underwriting EMEA\, Swiss Re\nModerator: Wyn Jenkins\, Managing Editor\, Intelligent Insurer\n\nWe’ll be discussing\n\nMaster Data Enrichment: Leverage new sources of external data\, such as weather\, mobility and location data\, to transform underwriting insight\, cut through the noise to establish exactly which data points help you decide whether to write or how to price\, and refine your data enrichment strategy to become a key driver of underwriting profitability\nMitigate Climate Exposure: Tackle the increasing frequency and severity of catastrophic weather events head-on\, achieve the right balance of underwriting and risk mitigation services to continue to write in loss-impacted areas\, and work collaboratively with brokers and customers to support the insurability of climate change-related risks\nAchieve Profitable Underwriting: Leverage novel data sources to improve risk assessment and pricing\, confront accumulation risk and guard against portfolio volatility with advanced data visualisation tools\, and set more granular parameters to inform binding suspensions while continuing to write profitable business\n\nThis webinar is sponsored by Precisely\, and by registering you agree to share your details with this organization. \n		\n\n							\n					Share this event with your colleagues:\n				 \n			\n			\n\n								\n		\n\n							\n\n					\n						\n						 \n					\n						\n							\n\n							\n																Facebook\n									\n						\n\n											\n					\n									\n							\n\n					\n						\n						 \n					\n						\n							\n\n							\n																Twitter\n									\n						\n\n											\n					\n									\n							\n\n					\n						\n						 \n					\n						\n							\n\n							\n																LinkedIn\n									\n						\n\n											\n					\n									\n							\n\n					\n						\n						 \n					\n						\n							\n\n							\n																Email\n									\n						\n\n											\n					\n									\n			\n					\n		\n			\n		\n		Visit Event Website
URL:https://www.limestreetguide.com/event/webinar-harness-external-data-2022/
LOCATION:Online
CATEGORIES:Online,Education & Training
ATTACH;FMTTYPE=image/jpeg:https://www.limestreetguide.com/wp-content/uploads/2022/03/Harness-External-Data-webinar-2022-banner.jpg
ORGANIZER;CN="Intelligent%20Insurer":MAILTO:datwell@newtonmedia.co.uk
GEO:51.533166;-0.130418
END:VEVENT
END:VCALENDAR