BEGIN:VCALENDAR
VERSION:2.0
PRODID:-//The Lime Street Guide - ECPv5.2.1//NONSGML v1.0//EN
CALSCALE:GREGORIAN
METHOD:PUBLISH
X-WR-CALNAME:The Lime Street Guide
X-ORIGINAL-URL:https://www.limestreetguide.com
X-WR-CALDESC:Events for The Lime Street Guide
BEGIN:VTIMEZONE
TZID:Europe/London
BEGIN:DAYLIGHT
TZOFFSETFROM:+0000
TZOFFSETTO:+0100
TZNAME:BST
DTSTART:20200329T010000
END:DAYLIGHT
BEGIN:STANDARD
TZOFFSETFROM:+0100
TZOFFSETTO:+0000
TZNAME:GMT
DTSTART:20201025T010000
END:STANDARD
END:VTIMEZONE
BEGIN:VEVENT
DTSTART;VALUE=DATE:20200331
DTEND;VALUE=DATE:20200713
DTSTAMP:20260424T221328
CREATED:20200401T093901Z
LAST-MODIFIED:20210215T205744Z
UID:56156-1585612800-1594598399@www.limestreetguide.com
SUMMARY:Webinar: Become the Underwriter of the Future
DESCRIPTION:According to a recent survey by Intelligent Insurer\, a whopping 72% of underwriters are worried their jobs are under threat with the rise of robotics and AI. And 59% feel that the lines between underwriters\, actuaries and data scientists are blurring. \nIt’s a turbulent time for today’s underwriters. But one thing is clear: You need to adapt\, upskill and retain talent to secure your position and continue delivering real value. \nHelp is at hand… The event organisers have gathered top executives to show you how to make the transition into the underwriter of the future. You’ll hear from: \n– Dean LaPierre\, Chief Underwriting Officer – Global Property & Marine\, Berkshire Hathaway Specialty\n– Erik Nikodem\, SVP Head of Property\, Everest Insurance\n– Tony Fenton\, VP Commercial Lines Digitization & Innovation\, Nationwide\n– Jessica Schuler\, VP Strategic Initiatives\, Praedicat\n– Moderator: Jay Sarzen\, Senior Analyst\, Aite Group \n		\n\n							\n					Share this event with your colleagues:\n				 \n			\n			\n\n								\n		\n\n							\n\n					\n						\n						 \n					\n						\n							\n\n							\n																Facebook\n									\n						\n\n											\n					\n									\n							\n\n					\n						\n						 \n					\n						\n							\n\n							\n																Twitter\n									\n						\n\n											\n					\n									\n							\n\n					\n						\n						 \n					\n						\n							\n\n							\n																LinkedIn\n									\n						\n\n											\n					\n									\n							\n\n					\n						\n						 \n					\n						\n							\n\n							\n																Email\n									\n						\n\n											\n					\n									\n			\n					\n		\n			\n		\n		Visit Event Website
URL:https://www.limestreetguide.com/event/webinar-become-the-underwriter-of-the-future/
LOCATION:Online
CATEGORIES:Online
ATTACH;FMTTYPE=image/png:https://www.limestreetguide.com/wp-content/uploads/2019/01/Intelligent-Insurer-new-logo.png
ORGANIZER;CN="Intelligent%20Insurer":MAILTO:datwell@newtonmedia.co.uk
GEO:51.533166;-0.130418
END:VEVENT
END:VCALENDAR