BEGIN:VCALENDAR
VERSION:2.0
PRODID:-//The Lime Street Guide - ECPv5.2.1//NONSGML v1.0//EN
CALSCALE:GREGORIAN
METHOD:PUBLISH
X-WR-CALNAME:The Lime Street Guide
X-ORIGINAL-URL:https://www.limestreetguide.com
X-WR-CALDESC:Events for The Lime Street Guide
BEGIN:VTIMEZONE
TZID:Europe/London
BEGIN:DAYLIGHT
TZOFFSETFROM:+0000
TZOFFSETTO:+0100
TZNAME:BST
DTSTART:20200329T010000
END:DAYLIGHT
BEGIN:STANDARD
TZOFFSETFROM:+0100
TZOFFSETTO:+0000
TZNAME:GMT
DTSTART:20201025T010000
END:STANDARD
END:VTIMEZONE
BEGIN:VEVENT
DTSTART;VALUE=DATE:20201110
DTEND;VALUE=DATE:20201113
DTSTAMP:20260424T214704
CREATED:20201003T211327Z
LAST-MODIFIED:20201004T235045Z
UID:57076-1604966400-1605225599@www.limestreetguide.com
SUMMARY:Underwriting Innovation USA
DESCRIPTION:A hard market and increased catastrophes\, combined with the burden of legacy systems and mundane admin\, have meant that underwriters have been struggling to operate profitability for years—but all is not lost.  \nMaking the underwriting process more efficient is a huge opportunity for any insurer to reduce its expense ratio. The key challenge for underwriters is how to increase profitability through efficiency\, innovation and technology? \nTools\, such as artificial intelligence/machine learning (AI/ML)\, and the internet of things (IoT) can reduce manual tasks and speed up processes\, so you can focus on what really matters—making profitable underwriting decisions\, creating new products and expanding into new markets. \nIntelligent Insurer’s Underwriting Innovation USA virtual event (November 10-12) is unique because it brings together senior underwriters from P&C\, commercial lines\, life & health and speciality. \nThey’ll be debating how to integrate new sources of data\, develop more sophisticated pricing\, get products to market faster and deliver on customer expectations in a world of changing risks. \nPlus\, you’ll receive a crash course on how to support your workforce to become underwriters of the future by leveraging freed-up capacity to upskill\, provide new career paths\, and empower staff to take on higher-value tasks. \n		\n\n							\n					Share this event with your colleagues:\n				 \n			\n			\n\n								\n		\n\n							\n\n					\n						\n						 \n					\n						\n							\n\n							\n																Facebook\n									\n						\n\n											\n					\n									\n							\n\n					\n						\n						 \n					\n						\n							\n\n							\n																Twitter\n									\n						\n\n											\n					\n									\n							\n\n					\n						\n						 \n					\n						\n							\n\n							\n																LinkedIn\n									\n						\n\n											\n					\n									\n							\n\n					\n						\n						 \n					\n						\n							\n\n							\n																Email\n									\n						\n\n											\n					\n									\n			\n					\n		\n			\n		\n		Visit Event Website
URL:https://www.limestreetguide.com/event/underwriting-innovation-usa/
LOCATION:Online
CATEGORIES:Online,Conferences
ATTACH;FMTTYPE=image/png:https://www.limestreetguide.com/wp-content/uploads/2019/01/Intelligent-Insurer-new-logo.png
ORGANIZER;CN="Intelligent%20Insurer":MAILTO:datwell@newtonmedia.co.uk
GEO:51.533166;-0.130418
END:VEVENT
END:VCALENDAR