BEGIN:VCALENDAR
VERSION:2.0
PRODID:-//The Lime Street Guide - ECPv5.2.1//NONSGML v1.0//EN
CALSCALE:GREGORIAN
METHOD:PUBLISH
X-WR-CALNAME:The Lime Street Guide
X-ORIGINAL-URL:https://www.limestreetguide.com
X-WR-CALDESC:Events for The Lime Street Guide
BEGIN:VTIMEZONE
TZID:Europe/London
BEGIN:DAYLIGHT
TZOFFSETFROM:+0000
TZOFFSETTO:+0100
TZNAME:BST
DTSTART:20240331T010000
END:DAYLIGHT
BEGIN:STANDARD
TZOFFSETFROM:+0100
TZOFFSETTO:+0000
TZNAME:GMT
DTSTART:20241027T010000
END:STANDARD
END:VTIMEZONE
BEGIN:VEVENT
DTSTART;VALUE=DATE:20241119
DTEND;VALUE=DATE:20241121
DTSTAMP:20260424T214642
CREATED:20241002T151724Z
LAST-MODIFIED:20241002T151724Z
UID:83505-1731974400-1732147199@www.limestreetguide.com
SUMMARY:Underwriting Innovation USA 2024
DESCRIPTION:Underwriting Innovation USA 2024\nJoin 150+ senior underwriting leaders from the USA’s biggest insurers for two days of unparalleled content\, networking and discussion \nUnderwriting is the crux of insurance. And when it comes to improving your underwriting performance\, it’s not all about process efficiency\, innovation\, and technology. Market conditions\, emerging risks\, product development and your relationship with brokers are paramount to success. \nOver two days\, the in-depth conference programme will provide a unique opportunity for underwriters to discover how embedded insurance will enable you to reach new customers and lower distributions costs\, how you can move beyond risk transfer towards risk prevention\, how to close the protection gap for cyber and digital assets\, and so much more. With ample networking\, discussion-based sessions and pioneering use-cases\, attend and build a roadmap for future underwriting success. \nSpeakers\n \n \n  \n		\n\n							\n					Share this event with your colleagues:\n				 \n			\n			\n\n								\n		\n\n							\n\n					\n						\n						 \n					\n						\n							\n\n							\n																Facebook\n									\n						\n\n											\n					\n									\n							\n\n					\n						\n						 \n					\n						\n							\n\n							\n																Twitter\n									\n						\n\n											\n					\n									\n							\n\n					\n						\n						 \n					\n						\n							\n\n							\n																LinkedIn\n									\n						\n\n											\n					\n									\n							\n\n					\n						\n						 \n					\n						\n							\n\n							\n																Email\n									\n						\n\n											\n					\n									\n			\n					\n		\n			\n		\n		Visit Event Website
URL:https://www.limestreetguide.com/event/underwriting-innovation-usa-2024/
LOCATION:DoubleTree by Hilton Hotel Chicago\, 300 E Ohio St\, Chicago\, IL\, 60611\, United States
CATEGORIES:Conferences
ATTACH;FMTTYPE=image/jpeg:https://www.limestreetguide.com/wp-content/uploads/2024/10/Underwriting-Innovation-USA-2024.jpeg
ORGANIZER;CN="Intelligent%20Insurer":MAILTO:datwell@newtonmedia.co.uk
GEO:41.892818444086;-87.619703618088
X-APPLE-STRUCTURED-LOCATION;VALUE=URI;X-ADDRESS=DoubleTree by Hilton Hotel Chicago 300 E Ohio St Chicago IL 60611 United States;X-APPLE-RADIUS=500;X-TITLE=300 E Ohio St:geo:-87.619703618088,41.892818444086
END:VEVENT
END:VCALENDAR