BEGIN:VCALENDAR
VERSION:2.0
PRODID:-//The Lime Street Guide - ECPv5.2.1//NONSGML v1.0//EN
CALSCALE:GREGORIAN
METHOD:PUBLISH
X-WR-CALNAME:The Lime Street Guide
X-ORIGINAL-URL:https://www.limestreetguide.com
X-WR-CALDESC:Events for The Lime Street Guide
BEGIN:VTIMEZONE
TZID:Europe/London
BEGIN:DAYLIGHT
TZOFFSETFROM:+0000
TZOFFSETTO:+0100
TZNAME:BST
DTSTART:20220327T010000
END:DAYLIGHT
BEGIN:STANDARD
TZOFFSETFROM:+0100
TZOFFSETTO:+0000
TZNAME:GMT
DTSTART:20221030T010000
END:STANDARD
END:VTIMEZONE
BEGIN:VEVENT
DTSTART;VALUE=DATE:20221109
DTEND;VALUE=DATE:20221111
DTSTAMP:20260424T215740
CREATED:20221028T162945Z
LAST-MODIFIED:20221108T215111Z
UID:77494-1667952000-1668124799@www.limestreetguide.com
SUMMARY:Underwriting Innovation USA 2022
DESCRIPTION:Description\nWith the insurance market hardening\, new risks rapidly emerging and customer expectations increasing all the time\, the challenge for underwriters to quickly enhance efficiency and productivity is greater than ever. How can underwriters stay ahead of the curve as the insurance landscape evolves at an unprecedented rate? \nLeveraging new technologies and reshaping processes is the key to maintaining a competitive edge and enhancing profitability. Being slow to embrace transformative tools will cause Underwriters to be inefficient\, unproductive and ultimately risk becoming unprofitable as they lose market share to other innovative competitors. \nUnderwriting Innovation USA unites more chief underwriting officers\, and senior industry experts\, coming from leading carriers to showcase pioneering use cases for emerging technologies\, tools and techniques across the underwriting ecosystem. \nJoin 250+ senior underwriting executives and gain insight into how the landscape is shifting and tackle the core issues surrounding innovation intergeneration in underwriting! \nSign up to Underwriting Innovation USA (November 9-10) for your roadmap on the future of underwriting. \n		\n\n							\n					Share this event with your colleagues:\n				 \n			\n			\n\n								\n		\n\n							\n\n					\n						\n						 \n					\n						\n							\n\n							\n																Facebook\n									\n						\n\n											\n					\n									\n							\n\n					\n						\n						 \n					\n						\n							\n\n							\n																Twitter\n									\n						\n\n											\n					\n									\n							\n\n					\n						\n						 \n					\n						\n							\n\n							\n																LinkedIn\n									\n						\n\n											\n					\n									\n							\n\n					\n						\n						 \n					\n						\n							\n\n							\n																Email\n									\n						\n\n											\n					\n									\n			\n					\n		\n			\n		\n		Visit Event Website
URL:https://www.limestreetguide.com/event/underwriting-innovation-usa-2022/
LOCATION:Hilton Embassy Suites\, 511 N Columbus Dr\, Chicago\, IL\, 60611\, United States
CATEGORIES:Conferences
ATTACH;FMTTYPE=image/png:https://www.limestreetguide.com/wp-content/uploads/2022/10/Underwriting-innovation-usa-2022-2.png
ORGANIZER;CN="Intelligent%20Insurer":MAILTO:datwell@newtonmedia.co.uk
GEO:41.891442136675;-87.6199634
X-APPLE-STRUCTURED-LOCATION;VALUE=URI;X-ADDRESS=Hilton Embassy Suites 511 N Columbus Dr Chicago IL 60611 United States;X-APPLE-RADIUS=500;X-TITLE=511 N Columbus Dr:geo:-87.6199634,41.891442136675
END:VEVENT
END:VCALENDAR