BEGIN:VCALENDAR
VERSION:2.0
PRODID:-//The Lime Street Guide - ECPv5.2.1//NONSGML v1.0//EN
CALSCALE:GREGORIAN
METHOD:PUBLISH
X-WR-CALNAME:The Lime Street Guide
X-ORIGINAL-URL:https://www.limestreetguide.com
X-WR-CALDESC:Events for The Lime Street Guide
BEGIN:VTIMEZONE
TZID:Europe/London
BEGIN:DAYLIGHT
TZOFFSETFROM:+0000
TZOFFSETTO:+0100
TZNAME:BST
DTSTART:20230326T010000
END:DAYLIGHT
BEGIN:STANDARD
TZOFFSETFROM:+0100
TZOFFSETTO:+0000
TZNAME:GMT
DTSTART:20231029T010000
END:STANDARD
END:VTIMEZONE
BEGIN:VEVENT
DTSTART;VALUE=DATE:20230606
DTEND;VALUE=DATE:20230608
DTSTAMP:20260424T221204
CREATED:20230402T182015Z
LAST-MODIFIED:20230402T182015Z
UID:80868-1686009600-1686182399@www.limestreetguide.com
SUMMARY:Underwriting Innovation Europe 2023
DESCRIPTION:Underwriting Innovation Europe 2023\nAdapt to a changing world of risk to prepare for the future of underwriting. Build Resilience And Drive Growth With Forward Thinking Underwriting. \nIt’s not a secret that the underwriting market is changing at a rapid pace. Technological advances are moving the space forward and underwriting executives are starting to recognise the necessary tools to avoid being left behind in a previously manual space. \nBut despite these moves forward\, significant and new challenges remain: new and complex risks are emerging throughout different lines\, data issues continue to permeate the space\, and macroeconomic factors are having a drastic impact on risk assessments and claims. Although technology is slowly being embraced\, it’s difficult to keep up with the ever-changing technological landscape. \nHow can underwriters harness the power of new technologies\, adapt to emerging risks and implement new processes and solutions to keep pace with this changing landscape\, stay competitive and become more efficient and profitable? \nThe Underwriting Innovation Europe conference to be held in London\, June 6–7\, 2023\, will address the issues affecting underwriters and provide a unique opportunity to discover how to develop underwriting systems that are fit for the future\, identify the right partner for your transformation process and master how to enhance portfolio management by working smarter for competitive advantage. \nThis annual event\, hosted by Intelligent Insurer\, will bring together all underwriting stakeholders for a productive discussion on the major concerns including digitisation\, evolving risks\, data challenges\, and growth opportunities. \nSpeakers\n \n		\n\n							\n					Share this event with your colleagues:\n				 \n			\n			\n\n								\n		\n\n							\n\n					\n						\n						 \n					\n						\n							\n\n							\n																Facebook\n									\n						\n\n											\n					\n									\n							\n\n					\n						\n						 \n					\n						\n							\n\n							\n																Twitter\n									\n						\n\n											\n					\n									\n							\n\n					\n						\n						 \n					\n						\n							\n\n							\n																LinkedIn\n									\n						\n\n											\n					\n									\n							\n\n					\n						\n						 \n					\n						\n							\n\n							\n																Email\n									\n						\n\n											\n					\n									\n			\n					\n		\n			\n		\n		Visit Event Website
URL:https://www.limestreetguide.com/event/underwriting-innovation-europe-2023/
LOCATION:America Square Conference Centre\, 17 Crosswall\, London\, EC3N 2LB\, United Kingdom
CATEGORIES:Conferences
ATTACH;FMTTYPE=image/png:https://www.limestreetguide.com/wp-content/uploads/2023/04/Underwriting-Innovation-Europe-2023.png
ORGANIZER;CN="Intelligent%20Insurer":MAILTO:datwell@newtonmedia.co.uk
GEO:51.5115931;-0.0758501
X-APPLE-STRUCTURED-LOCATION;VALUE=URI;X-ADDRESS=America Square Conference Centre 17 Crosswall London EC3N 2LB United Kingdom;X-APPLE-RADIUS=500;X-TITLE=17 Crosswall:geo:-0.0758501,51.5115931
END:VEVENT
END:VCALENDAR