BEGIN:VCALENDAR
VERSION:2.0
PRODID:-//The Lime Street Guide - ECPv5.2.1//NONSGML v1.0//EN
CALSCALE:GREGORIAN
METHOD:PUBLISH
X-WR-CALNAME:The Lime Street Guide
X-ORIGINAL-URL:https://www.limestreetguide.com
X-WR-CALDESC:Events for The Lime Street Guide
BEGIN:VTIMEZONE
TZID:Europe/London
BEGIN:DAYLIGHT
TZOFFSETFROM:+0000
TZOFFSETTO:+0100
TZNAME:BST
DTSTART:20210328T010000
END:DAYLIGHT
BEGIN:STANDARD
TZOFFSETFROM:+0100
TZOFFSETTO:+0000
TZNAME:GMT
DTSTART:20211031T010000
END:STANDARD
END:VTIMEZONE
BEGIN:VEVENT
DTSTART;VALUE=DATE:20210628
DTEND;VALUE=DATE:20210701
DTSTAMP:20260424T215950
CREATED:20201214T194004Z
LAST-MODIFIED:20210624T223645Z
UID:57468-1624838400-1625097599@www.limestreetguide.com
SUMMARY:Underwriting Innovation Europe 2021
DESCRIPTION:Capitalise on Automation\, Cutting-Edge Data Analytics\, AI and IoT to Drive Efficiency and Become the Underwriter of the Future. \nDescription\nThis pan-European event is the largest online gathering of senior-level underwriters. Led by 40+ speakers\, you’ll hear from Chief Underwriting\, Chief Digital\, Chief Distribution Officers from AXA\, Allianz\, Zurich\, Munich Re\, ERGO\, Beazley\, Lloyd’s\, SCOR\, Liberty Mutual and Aviva\, plus subject matter experts from LV\, UNIQA\, Tokio Marine Kiln\, Baloise Group and many more. They’ll be demonstrating how to drive efficiency and spend time on what really matters: making profitable\, accurate underwriting decisions. \nDuring 15 hours of high-level content\, you’ll discover how to integrate new sources of data\, develop more sophisticated pricing\, get products to market faster\, and deliver on customer expectations in a world of changing risks. Join 1\,000+ attendees and secure your place today—it’s completely free for insurers. \n \nKey topics\nDriving efficiency\, reducing costs and meeting customer expectations through automation\, analytics and data are top-of-mind for today’s underwriters. It goes beyond technology: underwriters need to adapt to the evolving distribution landscape and a world of emerging\, intangible risks. \nFind out how to achieve this at Underwriting Innovation Europe Virtual (June 28–30). You’ll receive a crash course on integrating new sources of data\, developing more sophisticated pricing\, getting products to market faster\, and delivering on customer expectations in a world of changing risks. \n		\n\n							\n					Share this event with your colleagues:\n				 \n			\n			\n\n								\n		\n\n							\n\n					\n						\n						 \n					\n						\n							\n\n							\n																Facebook\n									\n						\n\n											\n					\n									\n							\n\n					\n						\n						 \n					\n						\n							\n\n							\n																Twitter\n									\n						\n\n											\n					\n									\n							\n\n					\n						\n						 \n					\n						\n							\n\n							\n																LinkedIn\n									\n						\n\n											\n					\n									\n							\n\n					\n						\n						 \n					\n						\n							\n\n							\n																Email\n									\n						\n\n											\n					\n									\n			\n					\n		\n			\n		\n		Visit Event Website
URL:https://www.limestreetguide.com/event/underwriting-innovation-europe-2021/
LOCATION:Online
CATEGORIES:Online,Conferences
ATTACH;FMTTYPE=image/png:https://www.limestreetguide.com/wp-content/uploads/2020/12/Underwriting-Innovation-Europe-2021-3.png
ORGANIZER;CN="Intelligent%20Insurer":MAILTO:datwell@newtonmedia.co.uk
GEO:51.533166;-0.130418
END:VEVENT
END:VCALENDAR