BEGIN:VCALENDAR
VERSION:2.0
PRODID:-//The Lime Street Guide - ECPv5.2.1//NONSGML v1.0//EN
CALSCALE:GREGORIAN
METHOD:PUBLISH
X-WR-CALNAME:The Lime Street Guide
X-ORIGINAL-URL:https://www.limestreetguide.com
X-WR-CALDESC:Events for The Lime Street Guide
BEGIN:VTIMEZONE
TZID:Europe/London
BEGIN:DAYLIGHT
TZOFFSETFROM:+0000
TZOFFSETTO:+0100
TZNAME:BST
DTSTART:20200329T010000
END:DAYLIGHT
BEGIN:STANDARD
TZOFFSETFROM:+0100
TZOFFSETTO:+0000
TZNAME:GMT
DTSTART:20201025T010000
END:STANDARD
END:VTIMEZONE
BEGIN:VEVENT
DTSTART;TZID=Europe/London:20200903T140000
DTEND;TZID=Europe/London:20200903T160000
DTSTAMP:20260424T221837
CREATED:20200812T210035Z
LAST-MODIFIED:20210215T205534Z
UID:56679-1599141600-1599148800@www.limestreetguide.com
SUMMARY:The Re/insurance Lounge panel discussion: Taking the pulse - buyers discuss the start to the renewals
DESCRIPTION:A brand new permanent community hub by the Intelligent Insurer providing the industry with a platform for live and on-demand video interviews\, panel discussions\, webinars\, roundtables\, workshops\, seminars and virtual conferences\, with the added benefit of personal networking among peers. \nPart 1: Fireside chat with Dr. Michael Pickel\, Member of the Executive Board – Property & Casualty\, Hannover Re \nPart 2: Panel discussion – Taking the pulse: buyers discuss the start to the renewals \nAs the industry moves into the renewals season\, the hard market and lack of industry conferences – and thus face-to-face negotiations – will make it a unique chapter in the industry’s history. This session will explore buyers’ views on hardening rates\, what they expect from negotiations and how they are and will cope doing business in a virtual world. The session will discuss: \n• Hardening rates and terms and conditions\n• The impact of COVID-19 on negotiations\n• The wider dynamics between reinsurers\, brokers and buyers \n		\n\n							\n					Share this event with your colleagues:\n				 \n			\n			\n\n								\n		\n\n							\n\n					\n						\n						 \n					\n						\n							\n\n							\n																Facebook\n									\n						\n\n											\n					\n									\n							\n\n					\n						\n						 \n					\n						\n							\n\n							\n																Twitter\n									\n						\n\n											\n					\n									\n							\n\n					\n						\n						 \n					\n						\n							\n\n							\n																LinkedIn\n									\n						\n\n											\n					\n									\n							\n\n					\n						\n						 \n					\n						\n							\n\n							\n																Email\n									\n						\n\n											\n					\n									\n			\n					\n		\n			\n		\n		Visit Event Website
URL:https://www.limestreetguide.com/event/the-re-insurance-lounge-panel-discussion-taking-the-pulse-buyers-discuss-the-start-to-the-renewals/
LOCATION:Online
CATEGORIES:Online,Education & Training
ATTACH;FMTTYPE=image/png:https://www.limestreetguide.com/wp-content/uploads/2019/01/Intelligent-Insurer-new-logo.png
ORGANIZER;CN="Intelligent%20Insurer":MAILTO:datwell@newtonmedia.co.uk
GEO:51.533166;-0.130418
END:VEVENT
END:VCALENDAR