BEGIN:VCALENDAR
VERSION:2.0
PRODID:-//The Lime Street Guide - ECPv5.2.1//NONSGML v1.0//EN
CALSCALE:GREGORIAN
METHOD:PUBLISH
X-WR-CALNAME:The Lime Street Guide
X-ORIGINAL-URL:https://www.limestreetguide.com
X-WR-CALDESC:Events for The Lime Street Guide
BEGIN:VTIMEZONE
TZID:Europe/London
BEGIN:DAYLIGHT
TZOFFSETFROM:+0000
TZOFFSETTO:+0100
TZNAME:BST
DTSTART:20200329T010000
END:DAYLIGHT
BEGIN:STANDARD
TZOFFSETFROM:+0100
TZOFFSETTO:+0000
TZNAME:GMT
DTSTART:20201025T010000
END:STANDARD
END:VTIMEZONE
BEGIN:VEVENT
DTSTART;TZID=Europe/London:20201008T140000
DTEND;TZID=Europe/London:20201008T160000
DTSTAMP:20260424T221043
CREATED:20201003T212329Z
LAST-MODIFIED:20201003T212329Z
UID:57077-1602165600-1602172800@www.limestreetguide.com
SUMMARY:The Re/insurance Lounge panel discussion: COVID-19 litigation and threats
DESCRIPTION:A brand new permanent community hub by the Intelligent Insurer providing the industry with a platform for live and on-demand video interviews\, panel discussions\, webinars\, roundtables\, workshops\, seminars and virtual conferences\, with the added benefit of personal networking among peers. \nIn the wake of COVID-19\, re/insurers are fighting many lawsuits on many fronts around the wording of policies and the potential scope of claims stemming from the pandemic. This special webinar will update members on the latest developments and look what how they may need to adjust their products as a result. \n • An overview of lawsuits and litigation now \n • The biggest potential losses and claims \n • How wordings are being adapted on policies  \nSpeakers \nMr. Aaron Le Marquer\, Partner\, Fenchurch Law \nMr. Sridhar Manyem\, Director\, Credit Rating Criteria Research & Analytics\, AM Best \nMr. Dave Loughran\, Senior Vice President of Product & Chief Economist\, Praedicat \n		\n\n							\n					Share this event with your colleagues:\n				 \n			\n			\n\n								\n		\n\n							\n\n					\n						\n						 \n					\n						\n							\n\n							\n																Facebook\n									\n						\n\n											\n					\n									\n							\n\n					\n						\n						 \n					\n						\n							\n\n							\n																Twitter\n									\n						\n\n											\n					\n									\n							\n\n					\n						\n						 \n					\n						\n							\n\n							\n																LinkedIn\n									\n						\n\n											\n					\n									\n							\n\n					\n						\n						 \n					\n						\n							\n\n							\n																Email\n									\n						\n\n											\n					\n									\n			\n					\n		\n			\n		\n		Visit Event Website
URL:https://www.limestreetguide.com/event/the-re-insurance-lounge-panel-discussion-covid-19-litigation-and-threats/
LOCATION:Online
CATEGORIES:Online,Education & Training
ATTACH;FMTTYPE=image/png:https://www.limestreetguide.com/wp-content/uploads/2019/01/Intelligent-Insurer-new-logo.png
ORGANIZER;CN="Intelligent%20Insurer":MAILTO:datwell@newtonmedia.co.uk
GEO:51.533166;-0.130418
END:VEVENT
END:VCALENDAR