BEGIN:VCALENDAR
VERSION:2.0
PRODID:-//The Lime Street Guide - ECPv5.2.1//NONSGML v1.0//EN
CALSCALE:GREGORIAN
METHOD:PUBLISH
X-WR-CALNAME:The Lime Street Guide
X-ORIGINAL-URL:https://www.limestreetguide.com
X-WR-CALDESC:Events for The Lime Street Guide
BEGIN:VTIMEZONE
TZID:Europe/London
BEGIN:DAYLIGHT
TZOFFSETFROM:+0000
TZOFFSETTO:+0100
TZNAME:BST
DTSTART:20200329T010000
END:DAYLIGHT
BEGIN:STANDARD
TZOFFSETFROM:+0100
TZOFFSETTO:+0000
TZNAME:GMT
DTSTART:20201025T010000
END:STANDARD
END:VTIMEZONE
BEGIN:VEVENT
DTSTART;TZID=Europe/London:20200820T140000
DTEND;TZID=Europe/London:20200820T160000
DTSTAMP:20260424T221119
CREATED:20200812T203600Z
LAST-MODIFIED:20210215T205558Z
UID:56677-1597932000-1597939200@www.limestreetguide.com
SUMMARY:The Re/insurance Lounge launch event: Hard market and how some companies have raised money to leverage it
DESCRIPTION:A brand new permanent community hub by the Intelligent Insurer providing the industry with a platform for live and on-demand video interviews\, panel discussions\, webinars\, roundtables\, workshops\, seminars and virtual conferences\, with the added benefit of personal networking among peers. \nPart 1: Fireside chat with Stephen Catlin\, CEO\, Convex \nIn this exclusive interview\, Catlin will discuss the progress of Convex since its launch\, his views on industry-led solutions to future pandemics and why the COVID-19 crisis will create a new type of hard market. He will also reflect on lessons learned during his career – and the one thing he is most proud of. \nPart 2: Panel discussion – Hard market and how some companies have raised money to leverage it \nAs rates in many lines spike in the wake of several years of cat losses and COVID-19\, many re/insurers are raising money in anticipation of cashing in on a hard market. But how exactly will then put this cash to work and what will shareholders expect? \n• An overview of rates and re/insurers’ expectations\n• How re/insurers expect to use their new cash\n• The lessons of previous hard markets \nModerator: Wyn Jenkins\, Editor\, Intelligent Insurer \n		\n\n							\n					Share this event with your colleagues:\n				 \n			\n			\n\n								\n		\n\n							\n\n					\n						\n						 \n					\n						\n							\n\n							\n																Facebook\n									\n						\n\n											\n					\n									\n							\n\n					\n						\n						 \n					\n						\n							\n\n							\n																Twitter\n									\n						\n\n											\n					\n									\n							\n\n					\n						\n						 \n					\n						\n							\n\n							\n																LinkedIn\n									\n						\n\n											\n					\n									\n							\n\n					\n						\n						 \n					\n						\n							\n\n							\n																Email\n									\n						\n\n											\n					\n									\n			\n					\n		\n			\n		\n		Visit Event Website
URL:https://www.limestreetguide.com/event/the-re-insurance-lounge-launch-event-hard-market-and-how-some-companies-have-raised-money-to-leverage-it/
LOCATION:Online
CATEGORIES:Online,Education & Training
ATTACH;FMTTYPE=image/png:https://www.limestreetguide.com/wp-content/uploads/2019/01/Intelligent-Insurer-new-logo.png
ORGANIZER;CN="Intelligent%20Insurer":MAILTO:datwell@newtonmedia.co.uk
GEO:51.533166;-0.130418
END:VEVENT
END:VCALENDAR