BEGIN:VCALENDAR
VERSION:2.0
PRODID:-//The Lime Street Guide - ECPv5.2.1//NONSGML v1.0//EN
CALSCALE:GREGORIAN
METHOD:PUBLISH
X-WR-CALNAME:The Lime Street Guide
X-ORIGINAL-URL:https://www.limestreetguide.com
X-WR-CALDESC:Events for The Lime Street Guide
BEGIN:VTIMEZONE
TZID:Europe/London
BEGIN:DAYLIGHT
TZOFFSETFROM:+0000
TZOFFSETTO:+0100
TZNAME:BST
DTSTART:20240331T010000
END:DAYLIGHT
BEGIN:STANDARD
TZOFFSETFROM:+0100
TZOFFSETTO:+0000
TZNAME:GMT
DTSTART:20241027T010000
END:STANDARD
END:VTIMEZONE
BEGIN:VEVENT
DTSTART;VALUE=DATE:20241203
DTEND;VALUE=DATE:20241204
DTSTAMP:20260424T172813
CREATED:20241017T105854Z
LAST-MODIFIED:20241017T110209Z
UID:83599-1733184000-1733270399@www.limestreetguide.com
SUMMARY:The Claims Network: London 2024
DESCRIPTION:The Claims Network: London 2024\nDrive Efficiency—Reduce Costs—Harness AI\nA complimentary event exclusively for senior level claims leaders. \nThe Claims Network: London provides a platform to exchange ideas\, address pressing issues\, and navigate towards a more resilient\, adaptive\, and customer-centric future. Join us on December 3\, 2024\, in London to help shape the future of insurance claims. \nWith so many events in the calendar catering for insurance\, this is the ONLY invitation-only\, large- scale claims meeting\, designed to deliver high-level networking and unrivalled learning—all in one day. \n		\n\n							\n					Share this event with your colleagues:\n				 \n			\n			\n\n								\n		\n\n							\n\n					\n						\n						 \n					\n						\n							\n\n							\n																Facebook\n									\n						\n\n											\n					\n									\n							\n\n					\n						\n						 \n					\n						\n							\n\n							\n																Twitter\n									\n						\n\n											\n					\n									\n							\n\n					\n						\n						 \n					\n						\n							\n\n							\n																LinkedIn\n									\n						\n\n											\n					\n									\n							\n\n					\n						\n						 \n					\n						\n							\n\n							\n																Email\n									\n						\n\n											\n					\n									\n			\n					\n		\n			\n		\n		Visit Event Website
URL:https://www.limestreetguide.com/event/the-claims-network-london-2024/
LOCATION:1 America Square\, London\, 17 Crosswall\, London\, EC3N 2LB\, United Kingdom
CATEGORIES:Conferences,Social & Networking
ATTACH;FMTTYPE=image/jpeg:https://www.limestreetguide.com/wp-content/uploads/2024/10/The-Claims-Network-London-2024-.jpeg
ORGANIZER;CN="Intelligent%20Insurer":MAILTO:datwell@newtonmedia.co.uk
GEO:51.511697516041;-0.076167201878511
X-APPLE-STRUCTURED-LOCATION;VALUE=URI;X-ADDRESS=1 America Square London 17 Crosswall London EC3N 2LB United Kingdom;X-APPLE-RADIUS=500;X-TITLE=17 Crosswall:geo:-0.076167201878511,51.511697516041
END:VEVENT
END:VCALENDAR