BEGIN:VCALENDAR
VERSION:2.0
PRODID:-//The Lime Street Guide - ECPv5.2.1//NONSGML v1.0//EN
CALSCALE:GREGORIAN
METHOD:PUBLISH
X-WR-CALNAME:The Lime Street Guide
X-ORIGINAL-URL:https://www.limestreetguide.com
X-WR-CALDESC:Events for The Lime Street Guide
BEGIN:VTIMEZONE
TZID:Europe/London
BEGIN:DAYLIGHT
TZOFFSETFROM:+0000
TZOFFSETTO:+0100
TZNAME:BST
DTSTART:20240331T010000
END:DAYLIGHT
BEGIN:STANDARD
TZOFFSETFROM:+0100
TZOFFSETTO:+0000
TZNAME:GMT
DTSTART:20241027T010000
END:STANDARD
END:VTIMEZONE
BEGIN:VEVENT
DTSTART;VALUE=DATE:20240502
DTEND;VALUE=DATE:20240503
DTSTAMP:20260424T221501
CREATED:20240128T222550Z
LAST-MODIFIED:20240128T222550Z
UID:82029-1714608000-1714694399@www.limestreetguide.com
SUMMARY:Re/insurance Outlook USA 2024
DESCRIPTION:Re/insurance Outlook USA 2024\nDeliver growth and profit in a volatile world\nCombat escalating social\, economic and geopolitical risks that are threatening society \nDescription\nFollowing the success of our 2023 Re/insurance Outlook Europe conference in Zurich\, Intelligent Insurer are pleased to announce the launch of Re/Insurance Outlook USA: an exclusive gathering of senior reinsurance leaders. Bringing together C-suite executives from across the United States and based on in-depth research with these same senior reinsurance stakeholders\, this inaugural conference will explore the lessons learned from the 1/1 renewals\, and expectations for 6/1 and 2024+. \nLocated in New York\, this conference will take place at the heart of US reinsurance and will be the senior-level conference for stakeholders aiming to be at the forefront of this industry. \n		\n\n							\n					Share this event with your colleagues:\n				 \n			\n			\n\n								\n		\n\n							\n\n					\n						\n						 \n					\n						\n							\n\n							\n																Facebook\n									\n						\n\n											\n					\n									\n							\n\n					\n						\n						 \n					\n						\n							\n\n							\n																Twitter\n									\n						\n\n											\n					\n									\n							\n\n					\n						\n						 \n					\n						\n							\n\n							\n																LinkedIn\n									\n						\n\n											\n					\n									\n							\n\n					\n						\n						 \n					\n						\n							\n\n							\n																Email\n									\n						\n\n											\n					\n									\n			\n					\n		\n			\n		\n		Visit Event Website
URL:https://www.limestreetguide.com/event/re-insurance-outlook-usa-2024/
LOCATION:1166 Avenue of the Americas\, 1166 6th Ave\, New York\, 10036\, United States
CATEGORIES:Conferences
ATTACH;FMTTYPE=image/jpeg:https://www.limestreetguide.com/wp-content/uploads/2024/01/Reinsurance-Outlook.jpg
ORGANIZER;CN="Intelligent%20Insurer":MAILTO:datwell@newtonmedia.co.uk
END:VEVENT
END:VCALENDAR