BEGIN:VCALENDAR
VERSION:2.0
PRODID:-//The Lime Street Guide - ECPv5.2.1//NONSGML v1.0//EN
CALSCALE:GREGORIAN
METHOD:PUBLISH
X-WR-CALNAME:The Lime Street Guide
X-ORIGINAL-URL:https://www.limestreetguide.com
X-WR-CALDESC:Events for The Lime Street Guide
BEGIN:VTIMEZONE
TZID:Europe/London
BEGIN:DAYLIGHT
TZOFFSETFROM:+0000
TZOFFSETTO:+0100
TZNAME:BST
DTSTART:20260329T010000
END:DAYLIGHT
BEGIN:STANDARD
TZOFFSETFROM:+0100
TZOFFSETTO:+0000
TZNAME:GMT
DTSTART:20261025T010000
END:STANDARD
END:VTIMEZONE
BEGIN:VEVENT
DTSTART;TZID=Europe/London:20260204T093000
DTEND;TZID=Europe/London:20260204T123000
DTSTAMP:20260419T165241
CREATED:20260106T124256Z
LAST-MODIFIED:20260106T124256Z
UID:87732-1770197400-1770208200@www.limestreetguide.com
SUMMARY:PICG: California Earthquake Claims Handling Certification 2026
DESCRIPTION:PICG: California Earthquake Claims Handling Certification 2026\nThe LMA Property Insurance Claims Group (PICG) presents California Earthquake Claims Handling Certification. \nThis course satisfies the California regulatory requirements for earthquake claims handling certification that is required every three years for all insurance professionals who handle earthquake claims in California. \nThis presentation will provide knowledge of earthquake fundamentals\, how earthquakes impact various building types\, building codes\, and earthquake repairs. This seminar presents evaluation of earthquake damage to a wide range of structure types\, but with a focus on mid- and high-rise concrete structures; properties likely to lead to large\, complex claims. \nThe course will also cover all the required course material mandated by the California Department of Insurance\, including: \n\nThe California Fair Claims Settlement Practices Regulations\nDetermination of the scope of loss\nLoss estimation techniques\nDetermination of necessity for engineer or expert input\nAssessment of damage to concrete surfaces and foundations\nSubsequent discovery of earthquake damage\nProgrammes designed to assist earthquake victims\n\nCertificates of completion will be emailed to all participants following the session. \nSpeakers\n\nAmy Churan\, Partner\, Robins Kaplan\nOwen Rosenboom\, PhD\, PE\, SE\, Vice President\, YA Engineering Services\nJoe Lakich\, Senior EGA\, Sedgwick\n\nDue to restricted numbers\, if you register and subsequently are unable to attend\, please email chloe.rees@lmalloyds.com. \nAudience\nThis presentation is open to the entire property community encompassing adjusters\, underwriters\, attorneys\, to senior-level leaders. Full LMA members only. \n		\n\n							\n					Share this event with your colleagues:\n				 \n			\n			\n\n								\n		\n\n							\n\n					\n						\n						 \n					\n						\n							\n\n							\n																Facebook\n									\n						\n\n											\n					\n									\n							\n\n					\n						\n						 \n					\n						\n							\n\n							\n																Twitter\n									\n						\n\n											\n					\n									\n							\n\n					\n						\n						 \n					\n						\n							\n\n							\n																LinkedIn\n									\n						\n\n											\n					\n									\n							\n\n					\n						\n						 \n					\n						\n							\n\n							\n																Email\n									\n						\n\n											\n					\n									\n			\n					\n		\n			\n		\n		This event requires membership. Please visit the organiser's website for more information.Visit Event Website
URL:https://www.limestreetguide.com/event/picg-california-earthquake-claims-handling-certification-2026/
LOCATION:LMA Presentation Room\, Suite 426\, Gallery 4\, Lloyd's\, London\, EC3M 7DQ\, United Kingdom
CATEGORIES:Education & Training,For Lloyd's Members
ATTACH;FMTTYPE=image/png:https://www.limestreetguide.com/wp-content/uploads/2020/09/LMA-new-logo.png
ORGANIZER;CN="Lloyd%27s%20Market%20Association%20%28LMA%29":MAILTO:lma@lmalloyds.com
GEO:51.513049;-0.082009
X-APPLE-STRUCTURED-LOCATION;VALUE=URI;X-ADDRESS=LMA Presentation Room Suite 426 Gallery 4 Lloyd's London EC3M 7DQ United Kingdom;X-APPLE-RADIUS=500;X-TITLE=Suite 426\, Gallery 4\, Lloyd's:geo:-0.082009,51.513049
END:VEVENT
END:VCALENDAR