BEGIN:VCALENDAR
VERSION:2.0
PRODID:-//The Lime Street Guide - ECPv5.2.1//NONSGML v1.0//EN
CALSCALE:GREGORIAN
METHOD:PUBLISH
X-WR-CALNAME:The Lime Street Guide
X-ORIGINAL-URL:https://www.limestreetguide.com
X-WR-CALDESC:Events for The Lime Street Guide
BEGIN:VTIMEZONE
TZID:Europe/London
BEGIN:DAYLIGHT
TZOFFSETFROM:+0000
TZOFFSETTO:+0100
TZNAME:BST
DTSTART:20260329T010000
END:DAYLIGHT
BEGIN:STANDARD
TZOFFSETFROM:+0100
TZOFFSETTO:+0000
TZNAME:GMT
DTSTART:20261025T010000
END:STANDARD
END:VTIMEZONE
BEGIN:VEVENT
DTSTART;TZID=Europe/London:20260318T160000
DTEND;TZID=Europe/London:20260318T170000
DTSTAMP:20260423T095813
CREATED:20260302T233630Z
LAST-MODIFIED:20260302T233630Z
UID:88385-1773849600-1773853200@www.limestreetguide.com
SUMMARY:LMA Lawyers' Forum 2026
DESCRIPTION:LMA Lawyers’ Forum 2026\nThe LMA Lawyers’ Forum welcomes you to a focused session bringing together legal professionals from across the Lloyd’s market to explore key regulatory\, contractual and litigation developments impacting insurers. \nThe session will also provide an opportunity to share perspectives with peers and discuss how legal considerations are influencing strategic decision-making across the market. \nFurther details\, including speakers and agenda\, will be announced shortly. \nDue to restricted numbers\, if you register and subsequently are unable to attend\, please email sophie.dewison@lmalloyds.com. \nAudience\nThis forum is open to members of the LMA Lawyers’ Forum and lawyers from across the Lloyd’s market. \n		\n\n							\n					Share this event with your colleagues:\n				 \n			\n			\n\n								\n		\n\n							\n\n					\n						\n						 \n					\n						\n							\n\n							\n																Facebook\n									\n						\n\n											\n					\n									\n							\n\n					\n						\n						 \n					\n						\n							\n\n							\n																Twitter\n									\n						\n\n											\n					\n									\n							\n\n					\n						\n						 \n					\n						\n							\n\n							\n																LinkedIn\n									\n						\n\n											\n					\n									\n							\n\n					\n						\n						 \n					\n						\n							\n\n							\n																Email\n									\n						\n\n											\n					\n									\n			\n					\n		\n			\n		\n		Visit Event Website
URL:https://www.limestreetguide.com/event/lma-lawyers-forum-2026/
LOCATION:The Old Library\, Lloyd’s of London\, One Lime Street\, London\, EC3M 7HA\, United Kingdom
CATEGORIES:Education & Training,For Lloyd's Members
ATTACH;FMTTYPE=image/png:https://www.limestreetguide.com/wp-content/uploads/2020/09/LMA-new-logo.png
ORGANIZER;CN="Lloyd%27s%20Market%20Association%20%28LMA%29":MAILTO:lma@lmalloyds.com
GEO:51.512999;-0.082006
X-APPLE-STRUCTURED-LOCATION;VALUE=URI;X-ADDRESS=The Old Library Lloyd’s of London One Lime Street London EC3M 7HA United Kingdom;X-APPLE-RADIUS=500;X-TITLE=One Lime Street:geo:-0.082006,51.512999
END:VEVENT
END:VCALENDAR