BEGIN:VCALENDAR
VERSION:2.0
PRODID:-//The Lime Street Guide - ECPv5.2.1//NONSGML v1.0//EN
CALSCALE:GREGORIAN
METHOD:PUBLISH
X-WR-CALNAME:The Lime Street Guide
X-ORIGINAL-URL:https://www.limestreetguide.com
X-WR-CALDESC:Events for The Lime Street Guide
BEGIN:VTIMEZONE
TZID:America/Toronto
BEGIN:DAYLIGHT
TZOFFSETFROM:-0500
TZOFFSETTO:-0400
TZNAME:EDT
DTSTART:20260308T070000
END:DAYLIGHT
BEGIN:STANDARD
TZOFFSETFROM:-0400
TZOFFSETTO:-0500
TZNAME:EST
DTSTART:20261101T060000
END:STANDARD
END:VTIMEZONE
BEGIN:VEVENT
DTSTART;TZID=America/Toronto:20260429T083000
DTEND;TZID=America/Toronto:20260429T170000
DTSTAMP:20260420T113557
CREATED:20260302T121048Z
LAST-MODIFIED:20260302T122326Z
UID:88353-1777451400-1777482000@www.limestreetguide.com
SUMMARY:Lloyd’s Academy Boot Camp in Toronto 2026
DESCRIPTION:Lloyd’s Academy Boot Camp in Toronto 2026\nAre you early in your career and want to learn more about Lloyd’s? \nThe Lloyd’s Academy Boot Camp offers an in-depth introductory program for risk professionals who want to gain a better understanding of Lloyd’s expertise and product offerings. \n\nHow does the Lloyd’s market operate?\nWhat are the roles of the Lloyd’s underwriter and broker?\nHow do you access the Lloyd’s market?\nWhat unique risk transfer solutions are available there?\nHow does the market support innovation and emerging risks?\n\nThis complimentary day-long in-person event features focused interactive sessions and networking opportunities with Lloyd’s underwriters and brokers and their regional counterparts. \n		\n\n							\n					Share this event with your colleagues:\n				 \n			\n			\n\n								\n		\n\n							\n\n					\n						\n						 \n					\n						\n							\n\n							\n																Facebook\n									\n						\n\n											\n					\n									\n							\n\n					\n						\n						 \n					\n						\n							\n\n							\n																Twitter\n									\n						\n\n											\n					\n									\n							\n\n					\n						\n						 \n					\n						\n							\n\n							\n																LinkedIn\n									\n						\n\n											\n					\n									\n							\n\n					\n						\n						 \n					\n						\n							\n\n							\n																Email\n									\n						\n\n											\n					\n									\n			\n					\n		\n			\n		\n		Visit Event Website
URL:https://www.limestreetguide.com/event/lloyds-academy-boot-camp-in-toronto-2026/
LOCATION:Royal Bank Plaza – North Tower\, 200 Bay St\, Toronto\, M5J 2W4\, Canada
CATEGORIES:Education & Training,Lloyd's Events
ATTACH;FMTTYPE=image/jpeg:https://www.limestreetguide.com/wp-content/uploads/2020/07/LSG-Event-Lloyds-of-London-e1665510976939.jpg
ORGANIZER;CN="Lloyd%27s":MAILTO:enquiries@lloyds.com
GEO:43.646874646982;-79.380416021632
X-APPLE-STRUCTURED-LOCATION;VALUE=URI;X-ADDRESS=Royal Bank Plaza – North Tower 200 Bay St Toronto M5J 2W4 Canada;X-APPLE-RADIUS=500;X-TITLE=200 Bay St:geo:-79.380416021632,43.646874646982
END:VEVENT
END:VCALENDAR