BEGIN:VCALENDAR
VERSION:2.0
PRODID:-//The Lime Street Guide - ECPv5.2.1//NONSGML v1.0//EN
CALSCALE:GREGORIAN
METHOD:PUBLISH
X-WR-CALNAME:The Lime Street Guide
X-ORIGINAL-URL:https://www.limestreetguide.com
X-WR-CALDESC:Events for The Lime Street Guide
BEGIN:VTIMEZONE
TZID:Europe/London
BEGIN:DAYLIGHT
TZOFFSETFROM:+0000
TZOFFSETTO:+0100
TZNAME:BST
DTSTART:20260329T010000
END:DAYLIGHT
BEGIN:STANDARD
TZOFFSETFROM:+0100
TZOFFSETTO:+0000
TZNAME:GMT
DTSTART:20261025T010000
END:STANDARD
END:VTIMEZONE
BEGIN:VEVENT
DTSTART;TZID=Europe/London:20260416T093000
DTEND;TZID=Europe/London:20260416T103000
DTSTAMP:20260419T165249
CREATED:20260302T234025Z
LAST-MODIFIED:20260302T234025Z
UID:88384-1776331800-1776335400@www.limestreetguide.com
SUMMARY:Law and Jurisdiction Clauses: From Slip to Dispute Resolution 2026
DESCRIPTION:Law and Jurisdiction Clauses: From Slip to Dispute Resolution 2026\nThe LMA invites you to join this informative session exploring one of the most important\, yet often overlooked\, elements of contract certainty. \nLeading insurance barristers will explain why the choice of law and jurisdiction in your slip matters\, how it can influence the handling and outcome of a dispute\, and what it means in practice for underwriters and claims professionals. \nThe session will also examine the key differences between arbitration and Court proceedings\, outlining the strategic advantages and potential drawbacks of each approach. \nDesigned as a clear and accessible introduction\, this event will demystify law and jurisdiction clauses\, and explain why they are a critical part of the risk details that should be carefully considered and negotiated. \nSpeakers\n\nHarry Wright\, Barrister\, 7 King’s Bench Walk\nRani Noakes\, Barrister\, 4 Pump Court\n\nDue to restricted numbers\, if you register and subsequently are unable to attend\, please email sophie.dewison@lmalloyds.com. \nAudience\nThis event is open to underwriters\, wordings and junior legal practitioners. \nFull LMA members only. \n		\n\n							\n					Share this event with your colleagues:\n				 \n			\n			\n\n								\n		\n\n							\n\n					\n						\n						 \n					\n						\n							\n\n							\n																Facebook\n									\n						\n\n											\n					\n									\n							\n\n					\n						\n						 \n					\n						\n							\n\n							\n																Twitter\n									\n						\n\n											\n					\n									\n							\n\n					\n						\n						 \n					\n						\n							\n\n							\n																LinkedIn\n									\n						\n\n											\n					\n									\n							\n\n					\n						\n						 \n					\n						\n							\n\n							\n																Email\n									\n						\n\n											\n					\n									\n			\n					\n		\n			\n		\n		This event requires membership. Please visit the organiser's website for more information.Visit Event Website
URL:https://www.limestreetguide.com/event/law-and-jurisdiction-clauses-from-slip-to-dispute-resolution-2026/
LOCATION:The Old Library\, Lloyd’s of London\, One Lime Street\, London\, EC3M 7HA\, United Kingdom
CATEGORIES:Education & Training,For Lloyd's Members
ATTACH;FMTTYPE=image/png:https://www.limestreetguide.com/wp-content/uploads/2020/09/LMA-new-logo.png
ORGANIZER;CN="Lloyd%27s%20Market%20Association%20%28LMA%29":MAILTO:lma@lmalloyds.com
GEO:51.512999;-0.082006
X-APPLE-STRUCTURED-LOCATION;VALUE=URI;X-ADDRESS=The Old Library Lloyd’s of London One Lime Street London EC3M 7HA United Kingdom;X-APPLE-RADIUS=500;X-TITLE=One Lime Street:geo:-0.082006,51.512999
END:VEVENT
END:VCALENDAR