BEGIN:VCALENDAR
VERSION:2.0
PRODID:-//The Lime Street Guide - ECPv5.2.1//NONSGML v1.0//EN
CALSCALE:GREGORIAN
METHOD:PUBLISH
X-WR-CALNAME:The Lime Street Guide
X-ORIGINAL-URL:https://www.limestreetguide.com
X-WR-CALDESC:Events for The Lime Street Guide
BEGIN:VTIMEZONE
TZID:Europe/London
BEGIN:DAYLIGHT
TZOFFSETFROM:+0000
TZOFFSETTO:+0100
TZNAME:BST
DTSTART:20210328T010000
END:DAYLIGHT
BEGIN:STANDARD
TZOFFSETFROM:+0100
TZOFFSETTO:+0000
TZNAME:GMT
DTSTART:20211031T010000
END:STANDARD
END:VTIMEZONE
BEGIN:VEVENT
DTSTART;VALUE=DATE:20210519
DTEND;VALUE=DATE:20210521
DTSTAMP:20260426T040731
CREATED:20210318T222545Z
LAST-MODIFIED:20210318T222606Z
UID:58064-1621382400-1621555199@www.limestreetguide.com
SUMMARY:InsiderTech Live 2021
DESCRIPTION:Description\nAfter a year of uncertainty\, decline in InsurTech fundraising trend\, and a shift in investor confidence\, we turn with open-minds and hope to the year 2021. InsiderTech Live will address the issues ignited in 2020 while maintaining a laser-sharp focus on how this new year brings renewed opportunities. We will gather the most innovative (re)insurance leaders\, latest technologies\, and the smartest investors from across the sector to delve into the strategic thinking for InsurTech in wholesale specialty and (re)insurance market. \nStaying true to our goal at InsiderTech\, we will be looking at how incumbents and InsurTech firms efficiently interact in the insurance space. Over two days\, we will be exploring the InsurTech space in both the UK and US. \nDiscussions will include\n\nInsurTech cycles: where are we in 2021?\nThe shift in focus on e-trading platforms for reinsurance and complex risks.\nOpportunities created for Insurtech companies caused by a need to meet challenges caused by COVID-19.\nChallenges faced by InsurTech firms in 2021 and how to overcome them (with use of case studies).\nWhat the increase in investment in InsurTech means for the long-term sustainability of InsurTech firms.\nLessons from other areas of finance.\n\nSpecific focus points within the agenda\n\nInsurTech changing the landscape of Reinsurance\nBack-office optimization\nImproving e-trading\nLloyd’s Blueprint and what this means for innovation through targeting digital efficiencies\nChanges in aspects of the distribution model\nInvestor appetite in 2021\n\n		\n\n							\n					Share this event with your colleagues:\n				 \n			\n			\n\n								\n		\n\n							\n\n					\n						\n						 \n					\n						\n							\n\n							\n																Facebook\n									\n						\n\n											\n					\n									\n							\n\n					\n						\n						 \n					\n						\n							\n\n							\n																Twitter\n									\n						\n\n											\n					\n									\n							\n\n					\n						\n						 \n					\n						\n							\n\n							\n																LinkedIn\n									\n						\n\n											\n					\n									\n							\n\n					\n						\n						 \n					\n						\n							\n\n							\n																Email\n									\n						\n\n											\n					\n									\n			\n					\n		\n			\n		\n		Visit Event Website
URL:https://www.limestreetguide.com/event/insidertech-live-2021/
LOCATION:Online
CATEGORIES:Online,Conferences,Education & Training
ATTACH;FMTTYPE=image/png:https://www.limestreetguide.com/wp-content/uploads/2021/03/InsiderTech-2021.png
ORGANIZER;CN="Insurance%20Insider":MAILTO:events@insuranceinsider.com
GEO:51.533166;-0.130418
END:VEVENT
END:VCALENDAR