BEGIN:VCALENDAR
VERSION:2.0
PRODID:-//The Lime Street Guide - ECPv5.2.1//NONSGML v1.0//EN
CALSCALE:GREGORIAN
METHOD:PUBLISH
X-WR-CALNAME:The Lime Street Guide
X-ORIGINAL-URL:https://www.limestreetguide.com
X-WR-CALDESC:Events for The Lime Street Guide
BEGIN:VTIMEZONE
TZID:UTC
BEGIN:STANDARD
TZOFFSETFROM:+0000
TZOFFSETTO:+0000
TZNAME:UTC
DTSTART:20180101T000000
END:STANDARD
END:VTIMEZONE
BEGIN:VEVENT
DTSTART;VALUE=DATE:20180425
DTEND;VALUE=DATE:20180426
DTSTAMP:20260419T183428
CREATED:20171212T121033Z
LAST-MODIFIED:20180531T121735Z
UID:37770-1524614400-1524700799@www.limestreetguide.com
SUMMARY:High Premium Group - Annual Conference and AGM
DESCRIPTION:For programme details please contact the High Premium Group directly. \n		\n\n							\n					Share this event with your colleagues:\n				 \n			\n			\n\n								\n		\n\n							\n\n					\n						\n						 \n					\n						\n							\n\n							\n																Facebook\n									\n						\n\n											\n					\n									\n							\n\n					\n						\n						 \n					\n						\n							\n\n							\n																Twitter\n									\n						\n\n											\n					\n									\n							\n\n					\n						\n						 \n					\n						\n							\n\n							\n																LinkedIn\n									\n						\n\n											\n					\n									\n							\n\n					\n						\n						 \n					\n						\n							\n\n							\n																Email\n									\n						\n\n											\n					\n									\n			\n					\n		\n			\n		\n		This event requires membership. Please visit the organiser's website for more information.Visit Event Website
URL:https://www.limestreetguide.com/event/high-premium-group-lutine-luncheon-5-3-4-2/
LOCATION:The Grocers’ Hall\, Princes Street\, London\, EC2R 8AD\, United Kingdom
CATEGORIES:Conferences,For Lloyd's Members
ATTACH;FMTTYPE=image/png:https://www.limestreetguide.com/wp-content/uploads/2017/12/HPG-logo-1.png
GEO:51.5141416;-0.0894157
X-APPLE-STRUCTURED-LOCATION;VALUE=URI;X-ADDRESS=The Grocers’ Hall Princes Street London EC2R 8AD United Kingdom;X-APPLE-RADIUS=500;X-TITLE=Princes Street:geo:-0.0894157,51.5141416
END:VEVENT
END:VCALENDAR