BEGIN:VCALENDAR
VERSION:2.0
PRODID:-//The Lime Street Guide - ECPv5.2.1//NONSGML v1.0//EN
CALSCALE:GREGORIAN
METHOD:PUBLISH
X-WR-CALNAME:The Lime Street Guide
X-ORIGINAL-URL:https://www.limestreetguide.com
X-WR-CALDESC:Events for The Lime Street Guide
BEGIN:VTIMEZONE
TZID:Europe/London
BEGIN:DAYLIGHT
TZOFFSETFROM:+0000
TZOFFSETTO:+0100
TZNAME:BST
DTSTART:20260329T010000
END:DAYLIGHT
BEGIN:STANDARD
TZOFFSETFROM:+0100
TZOFFSETTO:+0000
TZNAME:GMT
DTSTART:20261025T010000
END:STANDARD
END:VTIMEZONE
BEGIN:VEVENT
DTSTART;VALUE=DATE:20261115
DTEND;VALUE=DATE:20261117
DTSTAMP:20260422T121825
CREATED:20260114T163401Z
LAST-MODIFIED:20260114T163401Z
UID:87875-1794700800-1794873599@www.limestreetguide.com
SUMMARY:Global Insurance Forum 2026
DESCRIPTION:Global Insurance Forum 2026\nThe Global Insurance Forum comprises a diverse audience of c-suite leaders\, offering you a unique opportunity to\nconnect with your international colleagues and discuss the issues facing insurers and the world at large. \nWe provide a unique\, cross-sector\, platform for all stakeholders of the insurance community\nto engage in active collaboration. \n		\n\n							\n					Share this event with your colleagues:\n				 \n			\n			\n\n								\n		\n\n							\n\n					\n						\n						 \n					\n						\n							\n\n							\n																Facebook\n									\n						\n\n											\n					\n									\n							\n\n					\n						\n						 \n					\n						\n							\n\n							\n																Twitter\n									\n						\n\n											\n					\n									\n							\n\n					\n						\n						 \n					\n						\n							\n\n							\n																LinkedIn\n									\n						\n\n											\n					\n									\n							\n\n					\n						\n						 \n					\n						\n							\n\n							\n																Email\n									\n						\n\n											\n					\n									\n			\n					\n		\n			\n		\n		Visit Event Website
URL:https://www.limestreetguide.com/event/global-insurance-forum-2026/
LOCATION:Lloyd’s of London\, 1 Lime St\, London\, EC3M 7HA\, United Kingdom
CATEGORIES:Conferences
ATTACH;FMTTYPE=image/jpeg:https://www.limestreetguide.com/wp-content/uploads/2026/01/Global-Insurance-Forum-2026.jpeg
ORGANIZER;CN="International%20Insurance%20Society%20%28IIS%29":MAILTO:info@internationalinsurance.org
GEO:51.5130189;-0.0823612
X-APPLE-STRUCTURED-LOCATION;VALUE=URI;X-ADDRESS=Lloyd’s of London 1 Lime St London EC3M 7HA United Kingdom;X-APPLE-RADIUS=500;X-TITLE=1 Lime St:geo:-0.0823612,51.5130189
END:VEVENT
END:VCALENDAR