BEGIN:VCALENDAR
VERSION:2.0
PRODID:-//The Lime Street Guide - ECPv5.2.1//NONSGML v1.0//EN
CALSCALE:GREGORIAN
METHOD:PUBLISH
X-WR-CALNAME:The Lime Street Guide
X-ORIGINAL-URL:https://www.limestreetguide.com
X-WR-CALDESC:Events for The Lime Street Guide
BEGIN:VTIMEZONE
TZID:Asia/Muscat
BEGIN:STANDARD
TZOFFSETFROM:+0400
TZOFFSETTO:+0400
TZNAME:+04
DTSTART:20250101T000000
END:STANDARD
END:VTIMEZONE
BEGIN:VEVENT
DTSTART;VALUE=DATE:20250416
DTEND;VALUE=DATE:20250418
DTSTAMP:20260421T224314
CREATED:20250121T221902Z
LAST-MODIFIED:20250313T142604Z
UID:84422-1744761600-1744934399@www.limestreetguide.com
SUMMARY:Dubai to Host the First-Ever GAIP - InsureTek 2025 Middle East International Conference & Golden Shield Awards 2025
DESCRIPTION:GAIP – InsureTek 2025 Middle East International Conference & Golden Shield Awards 2025\nIn a groundbreaking partnership\, the Global Association of InsurTech Professionals (GAIP) and InsureTek ME\, organized by Biz Events Management\, proudly announce the upcoming GAIP – InsureTek 2025 Middle East International Conference & Golden Shield Awards 2025\, set to take place on 16th April 2025 in Dubai\, UAE. \nThis landmark event will bring together global thought leaders\, innovators\, and stakeholders in the insurance and InsurTech sectors. With a focus on fostering innovation\, collaboration\, and excellence\, this conference aims to redefine the future of InsurTech while highlighting the industry’s best practices and achievements. \nHighlights of the Event \n\nGAIP – InsureTek ME International Conference 2025: A high-profile global platform for professionals to share insights on emerging trends\, technologies\, best practices\, knowledge sharing\, networking\, and showcasing the latest advancements in InsurTech.\nGolden Shield Excellence Awards 2025: Recognizing exceptional contributions and innovations in the insurance and InsurTech industries.\nNetworking Opportunities: Engage with key industry stakeholders\, including insurers\, technopreneurs\, investors\, and regulators.\nExhibition Area: Showcase your brand\, products\, and services to a targeted audience of decision-makers.\nWorkshops & Webinars: Interactive sessions designed to foster collaboration and knowledge exchange.\n\nAbout Global Association of InsurTech Professionals (GAIP): \nGAIP is a non-profit international organization committed to promoting the advancement of the InsurTech industry through education\, research\, and collaboration. With established chapters in key regions and plans to expand into additional countries\, GAIP serves as a global hub for innovation and knowledge exchange. \nAbout InsureTek ME: \nInsureTek ME\, organized by Biz Events Management\, is a flagship platform promoting excellence and innovation in the insurance industry through world-class conferences and awards. InsureTek Middle East is the region’s premier insurance and InsurTech conference\, known for its excellence in bringing together industry leaders to discuss pressing challenges and opportunities. \nJoin GAIP in shaping the future of InsurTech at GAIP – InsureTek ME 2025! \nGAIP Successfully Concludes Its First Board Meeting Announcing Transformative Initiatives for the Global InsurTech Industry\n \nThe meeting brought together renowned industry leaders\, regulators\, and technology pioneers from around the world to discuss GAIP’s expansion\, strategic initiatives\, and upcoming flagship event\, GAIP – InsureTek 2025 International Conference in Dubai (April 16-17\, 2025). \nThe Board also announced groundbreaking initiatives to advance InsurTech innovation\, global collaboration\, and industry standards\, including:\n✅ GAIP TV – The World’s First 24/7 InsurTech Channel\n✅ InsurTech Venture & Incubation Fund to support research and startups\n✅ Partnerships with Leading Universities for InsurTech education & professional certification\n✅ GAIP Quality Assurance Program for best practices & benchmarking\n✅ Advocacy & Policy Engagement with regulators and global associations \nMore details on each of the initiatives can be found here. \n		\n\n							\n					Share this event with your colleagues:\n				 \n			\n			\n\n								\n		\n\n							\n\n					\n						\n						 \n					\n						\n							\n\n							\n																Facebook\n									\n						\n\n											\n					\n									\n							\n\n					\n						\n						 \n					\n						\n							\n\n							\n																Twitter\n									\n						\n\n											\n					\n									\n							\n\n					\n						\n						 \n					\n						\n							\n\n							\n																LinkedIn\n									\n						\n\n											\n					\n									\n							\n\n					\n						\n						 \n					\n						\n							\n\n							\n																Email\n									\n						\n\n											\n					\n									\n			\n					\n		\n			\n		\n		Visit Event Website
URL:https://www.limestreetguide.com/event/gaip-insuretek-2025-middle-east-international-conference-golden-shield-awards-2025/
LOCATION:JW Marriott Hotel Marina\, 66 Al Marsa St - Dubai Marina\, Dubai\, United Arab Emirates
CATEGORIES:Conferences,Awards,Social & Networking
ATTACH;FMTTYPE=image/png:https://www.limestreetguide.com/wp-content/uploads/2025/01/GAIP-Ribbon-Cutting-Ceremony.png
ORGANIZER;CN="Global%20Association%20of%20InsurTech%20Professionals%20%28GAIP%29":MAILTO:eventmanager@ariesgroupglobal.com
GEO:25.077244946051;55.140422281579
X-APPLE-STRUCTURED-LOCATION;VALUE=URI;X-ADDRESS=JW Marriott Hotel Marina 66 Al Marsa St - Dubai Marina Dubai United Arab Emirates;X-APPLE-RADIUS=500;X-TITLE=66 Al Marsa St - Dubai Marina:geo:55.140422281579,25.077244946051
END:VEVENT
END:VCALENDAR