BEGIN:VCALENDAR
VERSION:2.0
PRODID:-//The Lime Street Guide - ECPv5.2.1//NONSGML v1.0//EN
CALSCALE:GREGORIAN
METHOD:PUBLISH
X-WR-CALNAME:The Lime Street Guide
X-ORIGINAL-URL:https://www.limestreetguide.com
X-WR-CALDESC:Events for The Lime Street Guide
BEGIN:VTIMEZONE
TZID:Europe/London
BEGIN:DAYLIGHT
TZOFFSETFROM:+0000
TZOFFSETTO:+0100
TZNAME:BST
DTSTART:20260329T010000
END:DAYLIGHT
BEGIN:STANDARD
TZOFFSETFROM:+0100
TZOFFSETTO:+0000
TZNAME:GMT
DTSTART:20261025T010000
END:STANDARD
END:VTIMEZONE
BEGIN:VEVENT
DTSTART;TZID=Europe/London:20260122T160000
DTEND;TZID=Europe/London:20260122T170000
DTSTAMP:20260419T164954
CREATED:20260106T123446Z
LAST-MODIFIED:20260106T123446Z
UID:87727-1769097600-1769101200@www.limestreetguide.com
SUMMARY:Empower: Women’s Mentoring 2026
DESCRIPTION:Empower: Women’s Mentoring 2026\nThe LMA is delighted to partner with the Ethnic Women in Insurance Network for a fast-paced mentoring session where women will meet several mentor role models from different professions. \nParticipants will gain practical career advice\, fresh perspectives\, inspiration and an opportunity to expand their professional network. \nChair\n\nNiala Butt\, Head of Casualty Claims\, Liberty Specialty Market and the LMA’s General Liability Claims Group Co-Chair\n\nYour mentors\n\nAsha Patel\, International Head of Life Science\, Everest\nCassandra Archer\, Head of Economic Impact\, Research and Cross-Cutting Insurance Policy\nZara Ismail\, Global Head of Client and Broker Distribution\, Claims\, Liberty Specialty Markets\nSheila Cameron\, CEO\, LMA\nCindy Tsang\, Partner\, Kennedys\nFarrah Mauladad KC\, Barrister\, Crown Office Chambers\nFiona Temple\, People\, Culture and Academy Director\, LMA\n\nDue to restricted numbers\, if you register and subsequently are unable to attend\, please email chloe.rees@lmalloyds.com. \nAudience\nThis event is open to all women in the insurance sector. \n		\n\n							\n					Share this event with your colleagues:\n				 \n			\n			\n\n								\n		\n\n							\n\n					\n						\n						 \n					\n						\n							\n\n							\n																Facebook\n									\n						\n\n											\n					\n									\n							\n\n					\n						\n						 \n					\n						\n							\n\n							\n																Twitter\n									\n						\n\n											\n					\n									\n							\n\n					\n						\n						 \n					\n						\n							\n\n							\n																LinkedIn\n									\n						\n\n											\n					\n									\n							\n\n					\n						\n						 \n					\n						\n							\n\n							\n																Email\n									\n						\n\n											\n					\n									\n			\n					\n		\n			\n		\n		Visit Event Website
URL:https://www.limestreetguide.com/event/empower-womens-mentoring-2026/
LOCATION:Lloyd’s of London\, 1 Lime St\, London\, EC3M 7HA\, United Kingdom
CATEGORIES:Education & Training,For Lloyd's Members
ATTACH;FMTTYPE=image/png:https://www.limestreetguide.com/wp-content/uploads/2020/09/LMA-new-logo.png
ORGANIZER;CN="Lloyd%27s%20Market%20Association%20%28LMA%29":MAILTO:lma@lmalloyds.com
GEO:51.5130189;-0.0823612
X-APPLE-STRUCTURED-LOCATION;VALUE=URI;X-ADDRESS=Lloyd’s of London 1 Lime St London EC3M 7HA United Kingdom;X-APPLE-RADIUS=500;X-TITLE=1 Lime St:geo:-0.0823612,51.5130189
END:VEVENT
END:VCALENDAR