BEGIN:VCALENDAR
VERSION:2.0
PRODID:-//The Lime Street Guide - ECPv5.2.1//NONSGML v1.0//EN
CALSCALE:GREGORIAN
METHOD:PUBLISH
X-WR-CALNAME:The Lime Street Guide
X-ORIGINAL-URL:https://www.limestreetguide.com
X-WR-CALDESC:Events for The Lime Street Guide
BEGIN:VTIMEZONE
TZID:Europe/London
BEGIN:DAYLIGHT
TZOFFSETFROM:+0000
TZOFFSETTO:+0100
TZNAME:BST
DTSTART:20260329T010000
END:DAYLIGHT
BEGIN:STANDARD
TZOFFSETFROM:+0100
TZOFFSETTO:+0000
TZNAME:GMT
DTSTART:20261025T010000
END:STANDARD
END:VTIMEZONE
BEGIN:VEVENT
DTSTART;TZID=Europe/London:20260129T173000
DTEND;TZID=Europe/London:20260129T210000
DTSTAMP:20260419T162910
CREATED:20260106T123945Z
LAST-MODIFIED:20260106T123945Z
UID:87729-1769707800-1769720400@www.limestreetguide.com
SUMMARY:Emerging Professionals Claims Community Winter Quiz Night 2026
DESCRIPTION:Emerging Professionals Claims Community Winter Quiz Night 2026\nThe Emerging Professionals Claims Community (EPCC) invites you to its Winter Quiz Night. \nJoin the EPCC for an evening of fun and networking. Sign up and we’ll match you with a table so you can meet new people and connect with peers from across the market. \n17.30: Arrival and networking\n18.30: Quiz starts\n21.00: Close \nFood and drink will be provided on the evening. We look forward to seeing you there. \nThank you to DAC Beachcroft for sponsoring this event. \nDue to restricted numbers\, if you register and subsequently are unable to attend\, please email chloe.rees@lmalloyds.com. \nAudience\nThis event is open to emerging claims professionals in the Lloyd’s market. Full LMA members only. \n		\n\n							\n					Share this event with your colleagues:\n				 \n			\n			\n\n								\n		\n\n							\n\n					\n						\n						 \n					\n						\n							\n\n							\n																Facebook\n									\n						\n\n											\n					\n									\n							\n\n					\n						\n						 \n					\n						\n							\n\n							\n																Twitter\n									\n						\n\n											\n					\n									\n							\n\n					\n						\n						 \n					\n						\n							\n\n							\n																LinkedIn\n									\n						\n\n											\n					\n									\n							\n\n					\n						\n						 \n					\n						\n							\n\n							\n																Email\n									\n						\n\n											\n					\n									\n			\n					\n		\n			\n		\n		This event requires membership. Please visit the organiser's website for more information.Visit Event Website
URL:https://www.limestreetguide.com/event/emerging-professionals-claims-community-winter-quiz-night-2026/
LOCATION:Steam Bar & Restaurant\, 1 Saint George's Lane\, London\, United Kingdom
CATEGORIES:Social & Networking,For Lloyd's Members
ATTACH;FMTTYPE=image/png:https://www.limestreetguide.com/wp-content/uploads/2020/09/LMA-new-logo.png
ORGANIZER;CN="Lloyd%27s%20Market%20Association%20%28LMA%29":MAILTO:lma@lmalloyds.com
GEO:51.5102588;-0.085217
X-APPLE-STRUCTURED-LOCATION;VALUE=URI;X-ADDRESS=Steam Bar & Restaurant 1 Saint George's Lane London United Kingdom;X-APPLE-RADIUS=500;X-TITLE=1 Saint George's Lane:geo:-0.085217,51.5102588
END:VEVENT
END:VCALENDAR