BEGIN:VCALENDAR
VERSION:2.0
PRODID:-//The Lime Street Guide - ECPv5.2.1//NONSGML v1.0//EN
CALSCALE:GREGORIAN
METHOD:PUBLISH
X-WR-CALNAME:The Lime Street Guide
X-ORIGINAL-URL:https://www.limestreetguide.com
X-WR-CALDESC:Events for The Lime Street Guide
BEGIN:VTIMEZONE
TZID:Europe/London
BEGIN:DAYLIGHT
TZOFFSETFROM:+0000
TZOFFSETTO:+0100
TZNAME:BST
DTSTART:20250330T010000
END:DAYLIGHT
BEGIN:STANDARD
TZOFFSETFROM:+0100
TZOFFSETTO:+0000
TZNAME:GMT
DTSTART:20251026T010000
END:STANDARD
END:VTIMEZONE
BEGIN:VEVENT
DTSTART;VALUE=DATE:20250401
DTEND;VALUE=DATE:20250403
DTSTAMP:20260424T221343
CREATED:20241114T175803Z
LAST-MODIFIED:20241114T175803Z
UID:83902-1743465600-1743638399@www.limestreetguide.com
SUMMARY:Cyber Risk & Insurance Innovation USA 2025
DESCRIPTION:Cyber Risk & Insurance Innovation USA 2025\nThe realm of cyber insurance is arguably the most fluid within the insurance sector\, evolving almost daily. Systemic risks\, intensified by the unpredictability of major cyber events\, have thrust coverage nuances and the grey zones of war exclusions to the forefront. Amid fluctuating market conditions and threats – like the ever-shifting trends of ransomware – insurers are pressed to adapt. \nFurther complexities arise from tighter regulatory lenses\, talent gaps\, and a surge in cyber litigations. Yet\, there’s a resounding call\, especially for SMEs\, for clearer cyber risk education and more tailored insurance solutions. As the cyber threat landscape constantly morphs\, insurers are tasked with an ongoing recalibration of their strategies and claims approaches. \nThe Cyber Risk & Insurance Innovation USA conference\, to be held in Chicago on April 1-2\, 2025\, hosted by Intelligent Insurer\, will bring together all of the stakeholders in cyber insurance for a productive discussion delving deep into the crucial topics such as the threat landscape\, war exclusions\, systemic risk and market conditions\, while tackling how to navigate the SME sector\, the legal maze reshaping cyber insurance\, the game-changing role of AI and the power of data in risk analysis. \nSpeakers include\n \n \n		\n\n							\n					Share this event with your colleagues:\n				 \n			\n			\n\n								\n		\n\n							\n\n					\n						\n						 \n					\n						\n							\n\n							\n																Facebook\n									\n						\n\n											\n					\n									\n							\n\n					\n						\n						 \n					\n						\n							\n\n							\n																Twitter\n									\n						\n\n											\n					\n									\n							\n\n					\n						\n						 \n					\n						\n							\n\n							\n																LinkedIn\n									\n						\n\n											\n					\n									\n							\n\n					\n						\n						 \n					\n						\n							\n\n							\n																Email\n									\n						\n\n											\n					\n									\n			\n					\n		\n			\n		\n		Visit Event Website
URL:https://www.limestreetguide.com/event/cyber-risk-insurance-innovation-usa-2025/
LOCATION:DoubleTree by Hilton Hotel Chicago\, 300 E Ohio St\, Chicago\, IL\, 60611\, United States
CATEGORIES:Conferences
ATTACH;FMTTYPE=image/jpeg:https://www.limestreetguide.com/wp-content/uploads/2024/11/Cyber-Risk-Insurance-Innovation-USA-2025.jpeg
ORGANIZER;CN="Intelligent%20Insurer":MAILTO:datwell@newtonmedia.co.uk
GEO:41.892818444086;-87.619703618088
X-APPLE-STRUCTURED-LOCATION;VALUE=URI;X-ADDRESS=DoubleTree by Hilton Hotel Chicago 300 E Ohio St Chicago IL 60611 United States;X-APPLE-RADIUS=500;X-TITLE=300 E Ohio St:geo:-87.619703618088,41.892818444086
END:VEVENT
END:VCALENDAR