BEGIN:VCALENDAR
VERSION:2.0
PRODID:-//The Lime Street Guide - ECPv5.2.1//NONSGML v1.0//EN
CALSCALE:GREGORIAN
METHOD:PUBLISH
X-WR-CALNAME:The Lime Street Guide
X-ORIGINAL-URL:https://www.limestreetguide.com
X-WR-CALDESC:Events for The Lime Street Guide
BEGIN:VTIMEZONE
TZID:Europe/London
BEGIN:DAYLIGHT
TZOFFSETFROM:+0000
TZOFFSETTO:+0100
TZNAME:BST
DTSTART:20260329T010000
END:DAYLIGHT
BEGIN:STANDARD
TZOFFSETFROM:+0100
TZOFFSETTO:+0000
TZNAME:GMT
DTSTART:20261025T010000
END:STANDARD
END:VTIMEZONE
BEGIN:VEVENT
DTSTART;TZID=Europe/London:20260311T083000
DTEND;TZID=Europe/London:20260311T103000
DTSTAMP:20260419T135712
CREATED:20260217T153613Z
LAST-MODIFIED:20260217T153613Z
UID:88212-1773217800-1773225000@www.limestreetguide.com
SUMMARY:Cyber Insurance Practice Group 2026
DESCRIPTION:Cyber Insurance Practice Group 2026\nAs cyber threats continue to evolve in scale\, frequency and sophistication\, the cyber insurance market faces a persistent challenge: how to anticipate\, assess and underwrite emerging risks before they crystallise into loss – while ensuring coverage remains sustainable for the long term. \nThe LMF Cyber Insurance Practice Group is pleased to host an exclusive roundtable breakfast for leading cyber insurance underwriters and brokers\, providing a trusted forum for candid discussion\, shared insight and meaningful collaboration across the market. At this session\, in collaboration with our Corporate Partner\, NCC Group\, we’ll be looking at emerging risks and the insurance Market’s response to them. We’ll gain first hand insights from our friends at NCC Group and openly debate the impact of such risks on the insurance market\, coverage and pricing. \nTaking place in the Private Dining Room at The Campanelle Restaurant\, in Billiter Street\, this invitation-only session is designed to encourage open conversation in a confidential setting – allowing attendees to exchange views on how emerging cyber threats are reshaping underwriting portfolios\, pricing\, aggregation concerns and risk selection. \nThe discussion will be supported by expert commentary from NCC Group’s Matt Hull\, Vice President of Cyber Intelligence & Response. Drawing on his expertise\, Matt will share the latest threat intelligence and provide insight into how emerging threats are shaping today’s cyber risk landscape. In usual LMF roundtable style\, those underwriters and brokers attending will be invited to join in the discussion and hopefully leave with valuable insights that might inform their future risk assessment and client advisory activities. \nThe roundtable will be facilitated by LMF Founder\, Roger Oldham\, alongside contributions from NCC Group’s Chantal Constable and Paul Darwin\, bringing together underwriting\, broking and cyber risk perspectives to support a balanced\, market-focused discussion. \nThis breakfast roundtable will assist attendees by\n\nProviding new statistical cyber threat intelligence trends alongside real-world examples\nSharing detailed insights into evolving attacker behaviours and tactics\nExamining how emerging cyber threats translate into underwriting and portfolio exposure\nExploring the implications for pricing\, wordings\, aggregation and claims severity\nDiscussing how the market can continue to provide meaningful coverage while managing sustainability\nStrengthening relationships and collaboration across the cyber insurance ecosystem\n\nAttendance is aimed at senior cyber insurance underwriters and brokers actively involved in shaping cyber strategy\, pricing and risk management. Places are limited so register today. \n		\n\n							\n					Share this event with your colleagues:\n				 \n			\n			\n\n								\n		\n\n							\n\n					\n						\n						 \n					\n						\n							\n\n							\n																Facebook\n									\n						\n\n											\n					\n									\n							\n\n					\n						\n						 \n					\n						\n							\n\n							\n																Twitter\n									\n						\n\n											\n					\n									\n							\n\n					\n						\n						 \n					\n						\n							\n\n							\n																LinkedIn\n									\n						\n\n											\n					\n									\n							\n\n					\n						\n						 \n					\n						\n							\n\n							\n																Email\n									\n						\n\n											\n					\n									\n			\n					\n		\n			\n		\n		Visit Event Website
URL:https://www.limestreetguide.com/event/cyber-insurance-practice-group-2026/
LOCATION:Campanelle Restaurant\, 19-21 Billiter St\, London\, EC3M 2RY\, United Kingdom
CATEGORIES:Education & Training
ATTACH;FMTTYPE=image/png:https://www.limestreetguide.com/wp-content/uploads/2026/02/Cyber-Insurance-Practice-Group-2026.png
ORGANIZER;CN="LMForums":MAILTO:info@lmforums.com
END:VEVENT
END:VCALENDAR