BEGIN:VCALENDAR
VERSION:2.0
PRODID:-//The Lime Street Guide - ECPv5.2.1//NONSGML v1.0//EN
CALSCALE:GREGORIAN
METHOD:PUBLISH
X-WR-CALNAME:The Lime Street Guide
X-ORIGINAL-URL:https://www.limestreetguide.com
X-WR-CALDESC:Events for The Lime Street Guide
BEGIN:VTIMEZONE
TZID:Europe/London
BEGIN:DAYLIGHT
TZOFFSETFROM:+0000
TZOFFSETTO:+0100
TZNAME:BST
DTSTART:20250330T010000
END:DAYLIGHT
BEGIN:STANDARD
TZOFFSETFROM:+0100
TZOFFSETTO:+0000
TZNAME:GMT
DTSTART:20251026T010000
END:STANDARD
END:VTIMEZONE
BEGIN:VEVENT
DTSTART;VALUE=DATE:20250205
DTEND;VALUE=DATE:20250206
DTSTAMP:20260424T221543
CREATED:20241220T150922Z
LAST-MODIFIED:20241220T150922Z
UID:84356-1738713600-1738799999@www.limestreetguide.com
SUMMARY:Cyber Insurance Awards Europe 2025
DESCRIPTION:Cyber Insurance Awards Europe 2025\n\n\n\n\n\nIntelligent Insurer’s 2nd annual Cyber Insurance Awards Europe will return to London and take place on February 5\, 2025. The awards seek to recognise and celebrate companies\, teams and individuals for excellence\, innovation and sector-wide contributions in cyber insurance. The 2025 categories have now been decided and can be found here. \nDon’t miss your chance to join the Cyber Insurance networking event of the year at the glittering awards ceremony! Contact James Brown jbrown@newtonmedia.co.uk to book your table today! \nBe sure to diarise these dates for 2025: \n\n\n\n\n\n\n\n\n\n\n\n\nNominations Opened – August 13\, 2024\nFinalists Announced – Thursday\, November 7\, 2024\nNominations Closed – Friday\, October 18\, 2024\nEvening Awards Ceremony – Wednesday\, February 5\, 2025\n\n\n\n\n\n\n\n		\n\n							\n					Share this event with your colleagues:\n				 \n			\n			\n\n								\n		\n\n							\n\n					\n						\n						 \n					\n						\n							\n\n							\n																Facebook\n									\n						\n\n											\n					\n									\n							\n\n					\n						\n						 \n					\n						\n							\n\n							\n																Twitter\n									\n						\n\n											\n					\n									\n							\n\n					\n						\n						 \n					\n						\n							\n\n							\n																LinkedIn\n									\n						\n\n											\n					\n									\n							\n\n					\n						\n						 \n					\n						\n							\n\n							\n																Email\n									\n						\n\n											\n					\n									\n			\n					\n		\n			\n		\n		Visit Event Website
URL:https://www.limestreetguide.com/event/cyber-insurance-awards-europe-2025/
LOCATION:De Vere Grand Connaught Rooms\, 61 – 65 Great Queen Street\, London\, WC2B 5DA\, United Kingdom
CATEGORIES:Awards
ATTACH;FMTTYPE=image/jpeg:https://www.limestreetguide.com/wp-content/uploads/2024/12/Cyber-Insurance-Awards-Europe-2025.jpeg
ORGANIZER;CN="Intelligent%20Insurer":MAILTO:datwell@newtonmedia.co.uk
GEO:51.515614;-0.120528
X-APPLE-STRUCTURED-LOCATION;VALUE=URI;X-ADDRESS=De Vere Grand Connaught Rooms 61 – 65 Great Queen Street London WC2B 5DA United Kingdom;X-APPLE-RADIUS=500;X-TITLE=61 – 65 Great Queen Street:geo:-0.120528,51.515614
END:VEVENT
END:VCALENDAR