BEGIN:VCALENDAR
VERSION:2.0
PRODID:-//The Lime Street Guide - ECPv5.2.1//NONSGML v1.0//EN
CALSCALE:GREGORIAN
METHOD:PUBLISH
X-WR-CALNAME:The Lime Street Guide
X-ORIGINAL-URL:https://www.limestreetguide.com
X-WR-CALDESC:Events for The Lime Street Guide
BEGIN:VTIMEZONE
TZID:Europe/London
BEGIN:DAYLIGHT
TZOFFSETFROM:+0000
TZOFFSETTO:+0100
TZNAME:BST
DTSTART:20220327T010000
END:DAYLIGHT
BEGIN:STANDARD
TZOFFSETFROM:+0100
TZOFFSETTO:+0000
TZNAME:GMT
DTSTART:20221030T010000
END:STANDARD
END:VTIMEZONE
BEGIN:VEVENT
DTSTART;VALUE=DATE:20220509
DTEND;VALUE=DATE:20220512
DTSTAMP:20260424T221400
CREATED:20220217T232047Z
LAST-MODIFIED:20220217T232047Z
UID:76455-1652054400-1652313599@www.limestreetguide.com
SUMMARY:Commercial Lines Innovation USA 2022
DESCRIPTION:North America’s Largest Gathering of Commercial Lines Innovators. A 2-day virtual event\, plus 1 day of live networking in Chicago! All free for Carriers and Brokers. \nDescription\nCommercial insurers are under pressure. With catastrophic events on the rise\, stricter underwriting guidelines are inevitable\, meaning reduced capacity\, harder to place risks\, and skyrocketing premiums for business customers. It has rarely been more difficult for companies to access the coverage they need\, at a price they can afford. \nAll the while\, having conquered personal lines\, a proliferation of ambitious insurtechs are now clamoring to crack the commercial market. With new entrants gaining traction at an alarming pace\, it is essential that incumbent carriers and brokers devise a plan to leverage their expertise. \nThose who succeed will transform disruptors into enablers who support and add value to their own digitisation strategy. Those who fail will lose market share to insurtechs\, managing general agents and those incumbents with the foresight to innovate with them. \nWill you succumb to the threat or seize the opportunity? \n \nCommercial Lines Innovation USA (May 9–11) is the only event on the insurance calendar dedicated to technology and innovation for commercial lines. Over three days\, we’ll bring together 1\,000+ commercial insurers to share transformative insights on how to cultivate data enrichment for underwriting\, transform inefficient operations\, and adapt to changing broker and customer needs. \nDoes this sound a little ambitious in the face of COVID-19? \nDon’t worry\, we’ve got all bases covered. In 2022\, we’re bringing you a brand new hybrid event concept from Intelligent Insurer. \n		\n\n							\n					Share this event with your colleagues:\n				 \n			\n			\n\n								\n		\n\n							\n\n					\n						\n						 \n					\n						\n							\n\n							\n																Facebook\n									\n						\n\n											\n					\n									\n							\n\n					\n						\n						 \n					\n						\n							\n\n							\n																Twitter\n									\n						\n\n											\n					\n									\n							\n\n					\n						\n						 \n					\n						\n							\n\n							\n																LinkedIn\n									\n						\n\n											\n					\n									\n							\n\n					\n						\n						 \n					\n						\n							\n\n							\n																Email\n									\n						\n\n											\n					\n									\n			\n					\n		\n			\n		\n		Visit Event Website
URL:https://www.limestreetguide.com/event/commercial-lines-innovation-usa-2022/
LOCATION:Online
CATEGORIES:Online,Conferences
ATTACH;FMTTYPE=image/png:https://www.limestreetguide.com/wp-content/uploads/2022/02/Commercial-Lines-Intelligent-Insurer-2022.png
ORGANIZER;CN="Intelligent%20Insurer":MAILTO:datwell@newtonmedia.co.uk
GEO:51.533166;-0.130418
END:VEVENT
END:VCALENDAR