BEGIN:VCALENDAR
VERSION:2.0
PRODID:-//The Lime Street Guide - ECPv5.2.1//NONSGML v1.0//EN
CALSCALE:GREGORIAN
METHOD:PUBLISH
X-WR-CALNAME:The Lime Street Guide
X-ORIGINAL-URL:https://www.limestreetguide.com
X-WR-CALDESC:Events for The Lime Street Guide
BEGIN:VTIMEZONE
TZID:Europe/London
BEGIN:DAYLIGHT
TZOFFSETFROM:+0000
TZOFFSETTO:+0100
TZNAME:BST
DTSTART:20230326T010000
END:DAYLIGHT
BEGIN:STANDARD
TZOFFSETFROM:+0100
TZOFFSETTO:+0000
TZNAME:GMT
DTSTART:20231029T010000
END:STANDARD
END:VTIMEZONE
BEGIN:VEVENT
DTSTART;VALUE=DATE:20231004
DTEND;VALUE=DATE:20231005
DTSTAMP:20260424T221344
CREATED:20230918T175615Z
LAST-MODIFIED:20230918T175615Z
UID:81513-1696377600-1696463999@www.limestreetguide.com
SUMMARY:Commercial Lines Innovation Europe 2023
DESCRIPTION:Commercial Lines Innovation Europe 2023\nMacroeconomic headwinds are altering the course of commercial insurance as we know it. New perils are proving tricky to evaluate with traditional tools and\, all too often\, risks emerging from the climate crisis\, non-kinetic warfare and supply chain disruption continue to elude current models. \nAll the while\, inflation is spiralling\, and exerting pressure on internal resources. As the cost of claims continues to rise\, operational inefficiencies can no longer be ignored\, for profitability and sustainable growth cannot rely on customers absorbing steep premium increases alone. \nCommercial Lines Innovation Europe 2023 (October 4th\, London) is the only event on the insurance calendar dedicated to the future of commercial insurance. \nYou’ll access a roadmap for commercial lines transformation delivered by experts pioneering new approaches to underwriting\, distribution and operations. Wherever you sit in the commercial lines ecosystem\, you’ll benefit from industry-leading content that can help you to future-proof your organisation for the road ahead. \n		\n\n							\n					Share this event with your colleagues:\n				 \n			\n			\n\n								\n		\n\n							\n\n					\n						\n						 \n					\n						\n							\n\n							\n																Facebook\n									\n						\n\n											\n					\n									\n							\n\n					\n						\n						 \n					\n						\n							\n\n							\n																Twitter\n									\n						\n\n											\n					\n									\n							\n\n					\n						\n						 \n					\n						\n							\n\n							\n																LinkedIn\n									\n						\n\n											\n					\n									\n							\n\n					\n						\n						 \n					\n						\n							\n\n							\n																Email\n									\n						\n\n											\n					\n									\n			\n					\n		\n			\n		\n		Visit Event Website
URL:https://www.limestreetguide.com/event/commercial-lines-innovation-europe-2023/
LOCATION:America Square Conference Centre\, 17 Crosswall\, London\, EC3N 2LB\, United Kingdom
CATEGORIES:Conferences
ATTACH;FMTTYPE=image/jpeg:https://www.limestreetguide.com/wp-content/uploads/2023/09/Commercial-Lines-Innovation-Europe-2023.jpg
ORGANIZER;CN="Intelligent%20Insurer":MAILTO:datwell@newtonmedia.co.uk
GEO:51.5115931;-0.0758501
X-APPLE-STRUCTURED-LOCATION;VALUE=URI;X-ADDRESS=America Square Conference Centre 17 Crosswall London EC3N 2LB United Kingdom;X-APPLE-RADIUS=500;X-TITLE=17 Crosswall:geo:-0.0758501,51.5115931
END:VEVENT
END:VCALENDAR