BEGIN:VCALENDAR
VERSION:2.0
PRODID:-//The Lime Street Guide - ECPv5.2.1//NONSGML v1.0//EN
CALSCALE:GREGORIAN
METHOD:PUBLISH
X-WR-CALNAME:The Lime Street Guide
X-ORIGINAL-URL:https://www.limestreetguide.com
X-WR-CALDESC:Events for The Lime Street Guide
BEGIN:VTIMEZONE
TZID:Europe/London
BEGIN:DAYLIGHT
TZOFFSETFROM:+0000
TZOFFSETTO:+0100
TZNAME:BST
DTSTART:20230326T010000
END:DAYLIGHT
BEGIN:STANDARD
TZOFFSETFROM:+0100
TZOFFSETTO:+0000
TZNAME:GMT
DTSTART:20231029T010000
END:STANDARD
END:VTIMEZONE
BEGIN:VEVENT
DTSTART;VALUE=DATE:20231113
DTEND;VALUE=DATE:20231115
DTSTAMP:20260424T221736
CREATED:20230918T213511Z
LAST-MODIFIED:20230918T213511Z
UID:81530-1699833600-1700006399@www.limestreetguide.com
SUMMARY:Climate Risk and Sustainability in Re/insurance USA 2023
DESCRIPTION:Climate Risk and Sustainability in Re/insurance USA 2023\nLeading US insurers share methods to combat climate risk and develop future-proof decarbonization strategies. \nClimate Risk & Sustainability in Re/insurance USA is the only event of its kind that will give you the tools\, contacts and technological insights you need in order to identify climate-focused commercial opportunities; understand and prepare for the impact of incoming climate and sustainability regulations and standards; and plan and implement decarbonisation strategies. Gain insight from senior-level experts at Allstate\, Reinsurance Group of America\, Manulife\, Markel\, Zurich North America\, Crum & Forster\, FM Global and more responsible for environment and energy\, sustainability\, climate risk and CAT modelling. \n5 Core Themes Being Addressed By Our Expert Speakers:\n\nMaximise Profit by Identifying Climate-Focused Opportunities\nPlan and Implement Decarbonization Strategies\nManage the Impact of a Changing Climate and ESG Regulatory Landscape\nMitigate Climate Risk\nAddress Fundamental Underwriting Challenges\n\n		\n\n							\n					Share this event with your colleagues:\n				 \n			\n			\n\n								\n		\n\n							\n\n					\n						\n						 \n					\n						\n							\n\n							\n																Facebook\n									\n						\n\n											\n					\n									\n							\n\n					\n						\n						 \n					\n						\n							\n\n							\n																Twitter\n									\n						\n\n											\n					\n									\n							\n\n					\n						\n						 \n					\n						\n							\n\n							\n																LinkedIn\n									\n						\n\n											\n					\n									\n							\n\n					\n						\n						 \n					\n						\n							\n\n							\n																Email\n									\n						\n\n											\n					\n									\n			\n					\n		\n			\n		\n		Visit Event Website
URL:https://www.limestreetguide.com/event/climate-risk-and-sustainability-in-re-insurance-usa-2023/
LOCATION:Hilton Embassy Suites\, Chicago Downtown\, Magnificent Mile\, 511 N Columbus Dr\, Chicago\, 60611\, United States
CATEGORIES:Conferences
ATTACH;FMTTYPE=image/jpeg:https://www.limestreetguide.com/wp-content/uploads/2023/09/Hilton.jpg
ORGANIZER;CN="Intelligent%20Insurer":MAILTO:datwell@newtonmedia.co.uk
END:VEVENT
END:VCALENDAR