BEGIN:VCALENDAR
VERSION:2.0
PRODID:-//The Lime Street Guide - ECPv5.2.1//NONSGML v1.0//EN
CALSCALE:GREGORIAN
METHOD:PUBLISH
X-WR-CALNAME:The Lime Street Guide
X-ORIGINAL-URL:https://www.limestreetguide.com
X-WR-CALDESC:Events for The Lime Street Guide
BEGIN:VTIMEZONE
TZID:Europe/London
BEGIN:DAYLIGHT
TZOFFSETFROM:+0000
TZOFFSETTO:+0100
TZNAME:BST
DTSTART:20220327T010000
END:DAYLIGHT
BEGIN:STANDARD
TZOFFSETFROM:+0100
TZOFFSETTO:+0000
TZNAME:GMT
DTSTART:20221030T010000
END:STANDARD
END:VTIMEZONE
BEGIN:VEVENT
DTSTART;VALUE=DATE:20220711
DTEND;VALUE=DATE:20220714
DTSTAMP:20260424T221303
CREATED:20220228T222235Z
LAST-MODIFIED:20220228T222235Z
UID:76542-1657497600-1657756799@www.limestreetguide.com
SUMMARY:Claims Innovation USA 2022
DESCRIPTION:Description\nA variety of macro-economic and social trends\, whether it be the proliferation of digital solutions available to consumers\, severe business disruption caused by the COVID-19 pandemic or the newly coined “Great Resignation”\, have all resulted in the spotlight shining clearly on the claims world. \nThe customer experience of filing and pursuing an insurance claim is largely one of delay\, confusion\, and frustration. Multiple\, often time-consuming\, points of contact have resulted in a customer journey that appears outdated—acutely so when juxtapositioned against the largely digitised world of near-instantaneous customer satisfaction consumers expect elsewhere. \nThe question facing senior claims decision-makers in 2022 is how to gain a more comprehensive picture of the strategic challenges they face—whether this is delivering a “seamless” customer experience\, retaining and advancing qualified members of staff or utilising a truly “omnichannel” data strategy—and to match the right technological solutions and solutions providers with those challenges. \nEssentially\, how will you lead your claims department through an effective and efficient digitisation journey that will deliver the results your internal and external customers desperately need? \nClaims Innovation USA (July 11–13) will bring together 1\,000+ insurers\, brokers\, managing general agents\, insurtech and industry experts to debate the hottest topics claims professionals are facing right now. The agenda has been built around the current industry challenges and includes more than 30 diverse sessions in engaging formats such as in-depth roundtables\, keynotes\, fireside chats\, and lively panel debates. \nHybrid event\nFollowing extensive research with our community\, and in light of the ever-changing situation in relation to COVID-19\, Intelligent Insurer has developed a ‘best of both worlds’ solution that offers the ‘COVID-proof’ security of a virtual event\, but with the added opportunity to meet face-to-face for a day of live networking. \nIf you’re shielding\, operating under a travel ban\, or you simply prefer the ease and convenience of virtual events\, you can register for our two-day virtual event (July 11-12) to access 15+ hours of content live and on demand\, and all from the comfort of your home or office. \nIf you’re vaccinated\, maybe even boosted\, and longing for opportunities to meet face-to-face with your peers\, you can register for an entire day of live networking and debate at an iconic venue (July 13). \n		\n\n							\n					Share this event with your colleagues:\n				 \n			\n			\n\n								\n		\n\n							\n\n					\n						\n						 \n					\n						\n							\n\n							\n																Facebook\n									\n						\n\n											\n					\n									\n							\n\n					\n						\n						 \n					\n						\n							\n\n							\n																Twitter\n									\n						\n\n											\n					\n									\n							\n\n					\n						\n						 \n					\n						\n							\n\n							\n																LinkedIn\n									\n						\n\n											\n					\n									\n							\n\n					\n						\n						 \n					\n						\n							\n\n							\n																Email\n									\n						\n\n											\n					\n									\n			\n					\n		\n			\n		\n		Visit Event Website
URL:https://www.limestreetguide.com/event/claims-innovation-usa-2022/
LOCATION:Online
CATEGORIES:Online,Conferences
ATTACH;FMTTYPE=image/png:https://www.limestreetguide.com/wp-content/uploads/2022/02/Claims-Innovation-USA-2022.png
ORGANIZER;CN="Intelligent%20Insurer":MAILTO:datwell@newtonmedia.co.uk
GEO:51.533166;-0.130418
END:VEVENT
END:VCALENDAR