BEGIN:VCALENDAR
VERSION:2.0
PRODID:-//The Lime Street Guide - ECPv5.2.1//NONSGML v1.0//EN
CALSCALE:GREGORIAN
METHOD:PUBLISH
X-WR-CALNAME:The Lime Street Guide
X-ORIGINAL-URL:https://www.limestreetguide.com
X-WR-CALDESC:Events for The Lime Street Guide
BEGIN:VTIMEZONE
TZID:Europe/London
BEGIN:DAYLIGHT
TZOFFSETFROM:+0000
TZOFFSETTO:+0100
TZNAME:BST
DTSTART:20250330T010000
END:DAYLIGHT
BEGIN:STANDARD
TZOFFSETFROM:+0100
TZOFFSETTO:+0000
TZNAME:GMT
DTSTART:20251026T010000
END:STANDARD
END:VTIMEZONE
BEGIN:VEVENT
DTSTART;TZID=Europe/London:20250522T130000
DTEND;TZID=Europe/London:20250522T133000
DTSTAMP:20260419T164524
CREATED:20250508T215717Z
LAST-MODIFIED:20250508T215717Z
UID:85435-1747918800-1747920600@www.limestreetguide.com
SUMMARY:Blueprint Two Exit Plan - A Primer 2025
DESCRIPTION:Blueprint Two Exit Plan – A Primer 2025\nJoin the LMA for a virtual session on the Blueprint Two Exit Plan. \nAttendees gain an understanding of what the Exit Plan is\, why it is needed\, how it came about and why it is important for managing agencies to sign. \nSpeakers\n\nRob Myers\, Consultant\, LMA\nJoe Brace\, Operations Director\, LMA\nRay Koh\, Legal Counsel\, LMA\n\nDue to restricted numbers\, if you register and subsequently are unable to attend\, please email sophie.dewison@lmalloyds.com. \n		\n\n							\n					Share this event with your colleagues:\n				 \n			\n			\n\n								\n		\n\n							\n\n					\n						\n						 \n					\n						\n							\n\n							\n																Facebook\n									\n						\n\n											\n					\n									\n							\n\n					\n						\n						 \n					\n						\n							\n\n							\n																Twitter\n									\n						\n\n											\n					\n									\n							\n\n					\n						\n						 \n					\n						\n							\n\n							\n																LinkedIn\n									\n						\n\n											\n					\n									\n							\n\n					\n						\n						 \n					\n						\n							\n\n							\n																Email\n									\n						\n\n											\n					\n									\n			\n					\n		\n			\n		\n		Visit Event Website
URL:https://www.limestreetguide.com/event/blueprint-two-exit-plan-a-primer-2025/
LOCATION:Online
CATEGORIES:Online,Education & Training,For Lloyd's Members
ATTACH;FMTTYPE=image/png:https://www.limestreetguide.com/wp-content/uploads/2020/09/LMA-new-logo.png
ORGANIZER;CN="Lloyd%27s%20Market%20Association%20%28LMA%29":MAILTO:lma@lmalloyds.com
GEO:51.533166;-0.130418
END:VEVENT
END:VCALENDAR