BEGIN:VCALENDAR
VERSION:2.0
PRODID:-//The Lime Street Guide - ECPv5.2.1//NONSGML v1.0//EN
CALSCALE:GREGORIAN
METHOD:PUBLISH
X-WR-CALNAME:The Lime Street Guide
X-ORIGINAL-URL:https://www.limestreetguide.com
X-WR-CALDESC:Events for The Lime Street Guide
BEGIN:VTIMEZONE
TZID:Europe/London
BEGIN:DAYLIGHT
TZOFFSETFROM:+0000
TZOFFSETTO:+0100
TZNAME:BST
DTSTART:20190331T010000
END:DAYLIGHT
BEGIN:STANDARD
TZOFFSETFROM:+0100
TZOFFSETTO:+0000
TZNAME:GMT
DTSTART:20191027T010000
END:STANDARD
END:VTIMEZONE
BEGIN:VEVENT
DTSTART;TZID=Europe/London:20190611T100000
DTEND;TZID=Europe/London:20190611T140000
DTSTAMP:20260423T100740
CREATED:20181229T230259Z
LAST-MODIFIED:20210601T162814Z
UID:48917-1560247200-1560261600@www.limestreetguide.com
SUMMARY:ALM North American Names (NAN) meeting
DESCRIPTION:Share this event with your colleagues:\n				 \n			\n			\n\n								\n		\n\n							\n\n					\n						\n						 \n					\n						\n							\n\n							\n																Facebook\n									\n						\n\n											\n					\n									\n							\n\n					\n						\n						 \n					\n						\n							\n\n							\n																Twitter\n									\n						\n\n											\n					\n									\n							\n\n					\n						\n						 \n					\n						\n							\n\n							\n																LinkedIn\n									\n						\n\n											\n					\n									\n							\n\n					\n						\n						 \n					\n						\n							\n\n							\n																Email\n									\n						\n\n											\n					\n									\n			\n					\n		\n			\n		\n		Visit Event Website
URL:https://www.limestreetguide.com/event/alm-north-american-names-nan-meeting/
LOCATION:Lloyd’s of London\, One Lime Street\, London\, EC3M 7HA\, United Kingdom
CATEGORIES:For Lloyd's Members
ATTACH;FMTTYPE=image/png:https://www.limestreetguide.com/wp-content/uploads/2017/12/ALM-e1553464727870.png
ORGANIZER;CN="Association%20of%20Lloyd%27s%20Members%20%28ALM%29":MAILTO:alm@alm.ltd.uk
GEO:51.51326;-0.082328
X-APPLE-STRUCTURED-LOCATION;VALUE=URI;X-ADDRESS=Lloyd’s of London One Lime Street London EC3M 7HA United Kingdom;X-APPLE-RADIUS=500;X-TITLE=One Lime Street:geo:-0.082328,51.51326
END:VEVENT
END:VCALENDAR