BEGIN:VCALENDAR
VERSION:2.0
PRODID:-//The Lime Street Guide - ECPv5.2.1//NONSGML v1.0//EN
CALSCALE:GREGORIAN
METHOD:PUBLISH
X-WR-CALNAME:The Lime Street Guide
X-ORIGINAL-URL:https://www.limestreetguide.com
X-WR-CALDESC:Events for The Lime Street Guide
BEGIN:VTIMEZONE
TZID:Europe/London
BEGIN:DAYLIGHT
TZOFFSETFROM:+0000
TZOFFSETTO:+0100
TZNAME:BST
DTSTART:20190331T010000
END:DAYLIGHT
BEGIN:STANDARD
TZOFFSETFROM:+0100
TZOFFSETTO:+0000
TZNAME:GMT
DTSTART:20191027T010000
END:STANDARD
END:VTIMEZONE
BEGIN:VEVENT
DTSTART;VALUE=DATE:20190723
DTEND;VALUE=DATE:20190724
DTSTAMP:20260421T094713
CREATED:20181229T231508Z
LAST-MODIFIED:20210601T162740Z
UID:48921-1563840000-1563926399@www.limestreetguide.com
SUMMARY:ALM evening informal drinks reception
DESCRIPTION:Alan Lovell & the ALM Board invite members (& guest) to join them for drinks & canapés\, plus a Classic Jazz Band Trio\, in the Adam Room at Lloyd’s. \n		\n\n							\n					Share this event with your colleagues:\n				 \n			\n			\n\n								\n		\n\n							\n\n					\n						\n						 \n					\n						\n							\n\n							\n																Facebook\n									\n						\n\n											\n					\n									\n							\n\n					\n						\n						 \n					\n						\n							\n\n							\n																Twitter\n									\n						\n\n											\n					\n									\n							\n\n					\n						\n						 \n					\n						\n							\n\n							\n																LinkedIn\n									\n						\n\n											\n					\n									\n							\n\n					\n						\n						 \n					\n						\n							\n\n							\n																Email\n									\n						\n\n											\n					\n									\n			\n					\n		\n			\n		\n		This event requires membership. Please visit the organiser's website for more information.Visit Event Website
URL:https://www.limestreetguide.com/event/alm-evening-informal-drinks-reception/
LOCATION:Adam Room\, Lloyd’s\, One Lime Street\, London\, EC3M 7HA\, United Kingdom
CATEGORIES:For Lloyd's Members
ATTACH;FMTTYPE=image/png:https://www.limestreetguide.com/wp-content/uploads/2017/12/ALM-e1553464727870.png
ORGANIZER;CN="Association%20of%20Lloyd%27s%20Members%20%28ALM%29":MAILTO:alm@alm.ltd.uk
GEO:51.512999;-0.082006
X-APPLE-STRUCTURED-LOCATION;VALUE=URI;X-ADDRESS=Adam Room Lloyd’s One Lime Street London EC3M 7HA United Kingdom;X-APPLE-RADIUS=500;X-TITLE=One Lime Street:geo:-0.082006,51.512999
END:VEVENT
END:VCALENDAR